Back to Multiple platform build/check report for BioC 3.14
ABC[D]EFGHIJKLMNOPQRSTUVWXYZ

This page was generated on 2021-10-20 12:05:06 -0400 (Wed, 20 Oct 2021).

BUILD BIN results for DRIMSeq on riesling1

To the developers/maintainers of the DRIMSeq package:
- Please allow up to 24 hours (and sometimes 48 hours) for your latest push to git@git.bioconductor.org:packages/DRIMSeq.git to
reflect on this report. See How and When does the builder pull? When will my changes propagate? here for more information.
- Make sure to use the following settings in order to reproduce any error or warning you see on this page.

raw results

Package 538/2072HostnameOS / ArchINSTALLBUILDCHECKBUILD BIN
DRIMSeq 1.21.0  (landing page)
Malgorzata Nowicka
Snapshot Date: 2021-10-19 14:50:04 -0400 (Tue, 19 Oct 2021)
git_url: https://git.bioconductor.org/packages/DRIMSeq
git_branch: master
git_last_commit: 5ae45a7
git_last_commit_date: 2021-05-19 12:18:54 -0400 (Wed, 19 May 2021)
nebbiolo2Linux (Ubuntu 20.04.2 LTS) / x86_64  OK    OK    WARNINGS  UNNEEDED, same version is already published
riesling1Windows Server 2019 Standard / x64  OK    OK    WARNINGS    OK  UNNEEDED, same version is already published
merida1macOS 10.14.6 Mojave / x86_64  OK    OK    WARNINGS    OK  UNNEEDED, same version is already published

Summary

Package: DRIMSeq
Version: 1.21.0
Command: rm -rf DRIMSeq.buildbin-libdir && mkdir DRIMSeq.buildbin-libdir && D:\biocbuild\bbs-3.14-bioc\R\bin\R.exe CMD INSTALL --merge-multiarch --build --library=DRIMSeq.buildbin-libdir DRIMSeq_1.21.0.tar.gz
StartedAt: 2021-10-20 05:47:18 -0400 (Wed, 20 Oct 2021)
EndedAt: 2021-10-20 05:51:49 -0400 (Wed, 20 Oct 2021)
EllapsedTime: 271.1 seconds
RetCode: 0
Status:   OK  
PackageFile: DRIMSeq_1.21.0.zip
PackageFileSize: 802.7 KiB

Command output

##############################################################################
##############################################################################
###
### Running command:
###
###   rm -rf DRIMSeq.buildbin-libdir && mkdir DRIMSeq.buildbin-libdir && D:\biocbuild\bbs-3.14-bioc\R\bin\R.exe CMD INSTALL --merge-multiarch --build --library=DRIMSeq.buildbin-libdir DRIMSeq_1.21.0.tar.gz
###
##############################################################################
##############################################################################



install for i386

* installing *source* package 'DRIMSeq' ...
** using staged installation
** R
** inst
** preparing package for lazy loading
Creating a new generic function for 'proportions' in package 'DRIMSeq'
** help
*** installing help indices
  converting help for package 'DRIMSeq'
    finding HTML links ... done
    MatrixList-class                        html  
    dmDSdata-class                          html  
    dmDSdata                                html  
    dmDSfit-class                           html  
    dmDSprecision-class                     html  
    dmDStest-class                          html  
    dmFilter                                html  
    dmFit                                   html  
    finding level-2 HTML links ... done

    dmPrecision                             html  
    dmSQTLdata-class                        html  
    dmSQTLdata                              html  
    dmSQTLfit-class                         html  
    dmSQTLprecision-class                   html  
    dmSQTLtest-class                        html  
    dmTest                                  html  
    dm_plotDataDSInfo                       html  
    dm_plotProportions                      html  
    plotData                                html  
    plotPValues                             html  
    plotPrecision                           html  
    plotProportions                         html  
** building package indices
** installing vignettes
** testing if installed package can be loaded from temporary location
** testing if installed package can be loaded from final location
** testing if installed package keeps a record of temporary installation path

install for x64

* installing *source* package 'DRIMSeq' ...
** testing if installed package can be loaded
* MD5 sums
packaged installation of 'DRIMSeq' as DRIMSeq_1.21.0.zip
* DONE (DRIMSeq)