Index of /checkResults/devel/bioc-LATEST/DRIMSeq/raw-results/palomino3

[ICO]NameLast modifiedSizeDescription

[DIR]Parent Directory  -  
[TXT]buildbin-out.txt27-Feb-2024 03:59 1.1K 
[   ]buildbin-summary.dcf27-Feb-2024 03:59 515  
[TXT]buildsrc-out.txt29-Feb-2024 01:37 1.6K 
[   ]buildsrc-summary.dcf29-Feb-2024 01:37 369  
[TXT]checksrc-out.txt27-Feb-2024 03:59 5.7K 
[   ]checksrc-summary.dcf27-Feb-2024 03:59 453  
[TXT]install-out.txt29-Feb-2024 01:37 1.0K 
[   ]install-summary.dcf29-Feb-2024 01:37 268