Index of /checkResults/devel/bioc-LATEST/DRIMSeq/raw-results/nebbiolo1

[ICO]NameLast modifiedSizeDescription

[DIR]Parent Directory  -  
[   ]install-summary.dcf29-Mar-2024 00:36 259  
[   ]buildsrc-summary.dcf29-Mar-2024 00:36 418  
[   ]checksrc-summary.dcf29-Mar-2024 00:36 420  
[TXT]buildsrc-out.txt29-Mar-2024 00:36 846  
[TXT]install-out.txt29-Mar-2024 00:36 1.0K 
[TXT]checksrc-out.txt29-Mar-2024 00:36 5.6K