![]() | Name | Last modified | Size | Description |
---|---|---|---|---|
![]() | Parent Directory | - | ||
![]() | buildsrc-out.txt | 29-Nov-2023 01:39 | 855 | |
![]() | buildsrc-summary.dcf | 29-Nov-2023 01:39 | 427 | |
![]() | checksrc-out.txt | 29-Nov-2023 01:39 | 5.7K | |
![]() | checksrc-summary.dcf | 29-Nov-2023 01:39 | 453 | |
![]() | install-out.txt | 29-Nov-2023 01:39 | 1.0K | |
![]() | install-summary.dcf | 29-Nov-2023 01:39 | 268 | |