Name | Last modified | Size | Description | |
---|---|---|---|---|
Parent Directory | - | |||
buildbin-out.txt | 01-Jun-2024 08:31 | 6.8K | ||
buildbin-summary.dcf | 01-Jun-2024 08:31 | 542 | ||
buildsrc-out.txt | 01-Jun-2024 08:31 | 894 | ||
buildsrc-summary.dcf | 01-Jun-2024 08:31 | 434 | ||
checksrc-out.txt | 01-Jun-2024 08:31 | 3.8K | ||
checksrc-summary.dcf | 01-Jun-2024 08:31 | 452 | ||
install-out.txt | 01-Jun-2024 08:31 | 4.7K | ||
install-summary.dcf | 01-Jun-2024 08:31 | 273 | ||