Index of /checkResults/devel/bioc-LATEST/DMRforPairs/raw-results/palomino4

[ICO]NameLast modifiedSizeDescription

[DIR]Parent Directory  -  
[TXT]buildsrc-out.txt04-Oct-2023 00:37 2.8K 
[   ]buildsrc-summary.dcf04-Oct-2023 00:37 380  
[TXT]install-out.txt04-Oct-2023 00:37 1.2K 
[   ]install-summary.dcf04-Oct-2023 00:37 276