Index of /checkResults/devel/bioc-LATEST/DMRforPairs/raw-results/nebbiolo2

[ICO]NameLast modifiedSizeDescription

[DIR]Parent Directory  -  
[TXT]buildsrc-out.txt05-Oct-2023 00:36 2.6K 
[   ]buildsrc-summary.dcf05-Oct-2023 00:36 341  
[TXT]install-out.txt05-Oct-2023 00:36 1.2K 
[   ]install-summary.dcf05-Oct-2023 00:36 267