Index of /checkResults/devel/bioc-LATEST/DMRforPairs/raw-results/lconway

[ICO]NameLast modifiedSizeDescription

[DIR]Parent Directory  -  
[TXT]buildsrc-out.txt28-Sep-2023 00:39 2.6K 
[   ]buildsrc-summary.dcf28-Sep-2023 00:39 351  
[TXT]install-out.txt28-Sep-2023 00:39 1.2K 
[   ]install-summary.dcf28-Sep-2023 00:39 277