Index of /checkResults/devel/bioc-LATEST/DMRforPairs/raw-results

[ICO]NameLast modifiedSizeDescription

[DIR]Parent Directory  -  
[   ]info.dcf26-Sep-2023 00:39 283  
[DIR]kunpeng2/26-Sep-2023 00:39 -  
[DIR]lconway/26-Sep-2023 00:38 -  
[DIR]nebbiolo2/26-Sep-2023 00:36 -  
[DIR]palomino4/26-Sep-2023 00:37 -