Back to Multiple platform build/check report for BioC 3.15
ABC[D]EFGHIJKLMNOPQRSTUVWXYZ

This page was generated on 2022-01-22 11:10:09 -0500 (Sat, 22 Jan 2022).

HostnameOSArch (*)R versionInstalled pkgs
nebbiolo1Linux (Ubuntu 20.04.4 LTS)x86_64R Under development (unstable) (2022-01-05 r81451) -- "Unsuffered Consequences" 4163
riesling1Windows Server 2019 Standardx64R Under development (unstable) (2021-11-21 r81221) -- "Unsuffered Consequences" 4058
palomino3Windows Server 2022 Datacenterx64R Under development (unstable) (2021-12-21 r81400 ucrt) -- "Unsuffered Consequences" 4000
merida1macOS 10.14.6 Mojavex86_64R Under development (unstable) (2022-01-05 r81451) -- "Unsuffered Consequences" 4117
Click on any hostname to see more info about the system (e.g. compilers)      (*) as reported by 'uname -p', except on Windows and Mac OS X

CHECK results for DMRforPairs on merida1


To the developers/maintainers of the DMRforPairs package:
- Please allow up to 24 hours (and sometimes 48 hours) for your latest push to git@git.bioconductor.org:packages/DMRforPairs.git to
reflect on this report. See How and When does the builder pull? When will my changes propagate? here for more information.
- Make sure to use the following settings in order to reproduce any error or warning you see on this page.

raw results

Package 528/2075HostnameOS / ArchINSTALLBUILDCHECKBUILD BIN
DMRforPairs 1.31.0  (landing page)
Martin Rijlaarsdam
Snapshot Date: 2022-01-21 13:55:18 -0500 (Fri, 21 Jan 2022)
git_url: https://git.bioconductor.org/packages/DMRforPairs
git_branch: master
git_last_commit: 811cf7e
git_last_commit_date: 2021-10-26 12:13:07 -0500 (Tue, 26 Oct 2021)
nebbiolo1Linux (Ubuntu 20.04.4 LTS) / x86_64  OK    OK    OK  UNNEEDED, same version is already published
riesling1Windows Server 2019 Standard / x64  OK    OK    NA    NA  
palomino3Windows Server 2022 Datacenter / x64  OK    OK    OK    OK  NO, package depends on 'Gviz' which is not available
merida1macOS 10.14.6 Mojave / x86_64  OK    OK    OK    OK  UNNEEDED, same version is already published

Summary

Package: DMRforPairs
Version: 1.31.0
Command: /Library/Frameworks/R.framework/Resources/bin/R CMD check --install=check:DMRforPairs.install-out.txt --library=/Library/Frameworks/R.framework/Resources/library --no-vignettes --timings DMRforPairs_1.31.0.tar.gz
StartedAt: 2022-01-22 00:18:44 -0500 (Sat, 22 Jan 2022)
EndedAt: 2022-01-22 00:26:55 -0500 (Sat, 22 Jan 2022)
EllapsedTime: 490.9 seconds
RetCode: 0
Status:   OK  
CheckDir: DMRforPairs.Rcheck
Warnings: 0

Command output

##############################################################################
##############################################################################
###
### Running command:
###
###   /Library/Frameworks/R.framework/Resources/bin/R CMD check --install=check:DMRforPairs.install-out.txt --library=/Library/Frameworks/R.framework/Resources/library --no-vignettes --timings DMRforPairs_1.31.0.tar.gz
###
##############################################################################
##############################################################################


* using log directory ‘/Users/biocbuild/bbs-3.15-bioc/meat/DMRforPairs.Rcheck’
* using R Under development (unstable) (2022-01-05 r81451)
* using platform: x86_64-apple-darwin17.0 (64-bit)
* using session charset: UTF-8
* using option ‘--no-vignettes’
* checking for file ‘DMRforPairs/DESCRIPTION’ ... OK
* this is package ‘DMRforPairs’ version ‘1.31.0’
* checking package namespace information ... OK
* checking package dependencies ... OK
* checking if this is a source package ... OK
* checking if there is a namespace ... OK
* checking for hidden files and directories ... NOTE
Found the following hidden files and directories:
  .git_fetch_output.txt
  .git_merge_output.txt
These were most likely included in error. See section ‘Package
structure’ in the ‘Writing R Extensions’ manual.
* checking for portable file names ... OK
* checking for sufficient/correct file permissions ... OK
* checking whether package ‘DMRforPairs’ can be installed ... OK
* checking installed package size ... OK
* checking package directory ... OK
* checking ‘build’ directory ... OK
* checking DESCRIPTION meta-information ... OK
* checking top-level files ... OK
* checking for left-over files ... OK
* checking index information ... OK
* checking package subdirectories ... OK
* checking R files for non-ASCII characters ... OK
* checking R files for syntax errors ... OK
* checking whether the package can be loaded ... OK
* checking whether the package can be loaded with stated dependencies ... OK
* checking whether the package can be unloaded cleanly ... OK
* checking whether the namespace can be loaded with stated dependencies ... OK
* checking whether the namespace can be unloaded cleanly ... OK
* checking dependencies in R code ... OK
* checking S3 generic/method consistency ... OK
* checking replacement functions ... OK
* checking foreign function calls ... OK
* checking R code for possible problems ... NOTE
DMRforPairs: no visible global function definition for 'combn'
DMRforPairs: no visible global function definition for 'p.adjust'
calc_stats: no visible global function definition for 'combn'
calc_stats: no visible binding for global variable 'median'
calc_stats: no visible global function definition for 'wilcox.test'
calc_stats: no visible global function definition for 'kruskal.test'
export_data: no visible global function definition for 'write.table'
plot_annotate_probes: no visible global function definition for
  'rainbow'
plot_annotate_probes: no visible global function definition for 'png'
plot_annotate_probes: no visible global function definition for 'par'
plot_annotate_probes: no visible global function definition for 'lines'
plot_annotate_probes: no visible global function definition for
  'extendrange'
plot_annotate_probes: no visible global function definition for
  'dev.off'
plot_annotate_probes: no visible global function definition for 'pdf'
plot_annotate_probes: no visible global function definition for 'combn'
plot_annotate_probes: no visible global function definition for
  'legend'
plot_annotate_probes: no visible global function definition for 'axis'
plot_annotate_probes: no visible global function definition for 'box'
plot_annotate_probes: no visible global function definition for
  'seqlevels<-'
plot_annotate_probes: no visible global function definition for 'Rle'
plot_annotate_probes: no visible global function definition for
  'IRanges'
regionfinder: no visible global function definition for 'head'
regionfinder: no visible global function definition for 'tail'
Undefined global functions or variables:
  IRanges Rle axis box combn dev.off extendrange head kruskal.test
  legend lines median p.adjust par pdf png rainbow seqlevels<- tail
  wilcox.test write.table
Consider adding
  importFrom("grDevices", "dev.off", "extendrange", "pdf", "png",
             "rainbow")
  importFrom("graphics", "axis", "box", "legend", "lines", "par")
  importFrom("stats", "kruskal.test", "median", "p.adjust",
             "wilcox.test")
  importFrom("utils", "combn", "head", "tail", "write.table")
to your NAMESPACE file.
* checking Rd files ... OK
* checking Rd metadata ... OK
* checking Rd cross-references ... OK
* checking for missing documentation entries ... OK
* checking for code/documentation mismatches ... OK
* checking Rd \usage sections ... OK
* checking Rd contents ... OK
* checking for unstated dependencies in examples ... OK
* checking contents of ‘data’ directory ... OK
* checking data for non-ASCII characters ... OK
* checking data for ASCII and uncompressed saves ... OK
* checking sizes of PDF files under ‘inst/doc’ ... OK
* checking files in ‘vignettes’ ... OK
* checking examples ... OK
* checking for unstated dependencies in vignettes ... OK
* checking package vignettes in ‘inst/doc’ ... OK
* checking running R code from vignettes ... SKIPPED
* checking re-building of vignette outputs ... SKIPPED
* checking PDF version of manual ... OK
* DONE

Status: 2 NOTEs
See
  ‘/Users/biocbuild/bbs-3.15-bioc/meat/DMRforPairs.Rcheck/00check.log’
for details.



Installation output

DMRforPairs.Rcheck/00install.out

##############################################################################
##############################################################################
###
### Running command:
###
###   /Library/Frameworks/R.framework/Resources/bin/R CMD INSTALL DMRforPairs
###
##############################################################################
##############################################################################


* installing to library ‘/Library/Frameworks/R.framework/Versions/4.2/Resources/library’
* installing *source* package ‘DMRforPairs’ ...
** using staged installation
** R
** data
** inst
** byte-compile and prepare package for lazy loading
** help
*** installing help indices
*** copying figures
** building package indices
** installing vignettes
** testing if installed package can be loaded from temporary location
** testing if installed package can be loaded from final location
** testing if installed package keeps a record of temporary installation path
* DONE (DMRforPairs)

Tests output


Example timings

DMRforPairs.Rcheck/DMRforPairs-Ex.timings

nameusersystemelapsed
DMRforPairs2.0010.0622.071
calc_stats000
export_data1.9470.0572.022
merge_classes000
plot_annotate_custom_region1.4770.0141.498
plot_annotate_gene1.5940.0171.614
plot_annotate_probes0.0000.0000.001
plot_annotate_region1.3710.0121.387
regionfinder0.0000.0000.001
testregion000
tune_parameters1.5040.0101.518