Index of /checkResults/devel/bioc-LATEST/DMRcaller/raw-results/nebbiolo2

[ICO]NameLast modifiedSizeDescription

[DIR]Parent Directory  -  
[   ]install-summary.dcf07-Aug-2022 00:05 263  
[TXT]install-out.txt07-Aug-2022 00:05 961  
[   ]checksrc-summary.dcf07-Aug-2022 00:05 432  
[TXT]checksrc-out.txt07-Aug-2022 00:05 3.6K 
[   ]buildsrc-summary.dcf07-Aug-2022 00:05 423  
[TXT]buildsrc-out.txt07-Aug-2022 00:05 877