Back to Multiple platform build/check report for BioC 3.15
ABC[D]EFGHIJKLMNOPQRSTUVWXYZ

This page was generated on 2022-01-18 11:07:10 -0500 (Tue, 18 Jan 2022).

HostnameOSArch (*)R versionInstalled pkgs
nebbiolo1Linux (Ubuntu 20.04.4 LTS)x86_64R Under development (unstable) (2022-01-05 r81451) -- "Unsuffered Consequences" 4161
riesling1Windows Server 2019 Standardx64R Under development (unstable) (2021-11-21 r81221) -- "Unsuffered Consequences" 4056
palomino3Windows Server 2022 Datacenterx64R Under development (unstable) (2021-12-21 r81400 ucrt) -- "Unsuffered Consequences" 3998
merida1macOS 10.14.6 Mojavex86_64R Under development (unstable) (2022-01-05 r81451) -- "Unsuffered Consequences" 4115
Click on any hostname to see more info about the system (e.g. compilers)      (*) as reported by 'uname -p', except on Windows and Mac OS X

BUILD BIN results for DMRScan on riesling1


To the developers/maintainers of the DMRScan package:
- Please allow up to 24 hours (and sometimes 48 hours) for your latest push to git@git.bioconductor.org:packages/DMRScan.git to
reflect on this report. See How and When does the builder pull? When will my changes propagate? here for more information.
- Make sure to use the following settings in order to reproduce any error or warning you see on this page.

raw results

Package 529/2074HostnameOS / ArchINSTALLBUILDCHECKBUILD BIN
DMRScan 1.17.0  (landing page)
Christian M Page
Snapshot Date: 2022-01-17 13:55:17 -0500 (Mon, 17 Jan 2022)
git_url: https://git.bioconductor.org/packages/DMRScan
git_branch: master
git_last_commit: 2a1bd81
git_last_commit_date: 2021-10-26 12:32:33 -0500 (Tue, 26 Oct 2021)
nebbiolo1Linux (Ubuntu 20.04.4 LTS) / x86_64  OK    OK    OK  UNNEEDED, same version is already published
riesling1Windows Server 2019 Standard / x64  OK    OK    OK    OK  
palomino3Windows Server 2022 Datacenter / x64  OK    OK    OK    OK  NO, package depends on 'GenomicRanges' which is not available
merida1macOS 10.14.6 Mojave / x86_64  OK    OK    OK    OK  UNNEEDED, same version is already published

Summary

Package: DMRScan
Version: 1.17.0
Command: rm -rf DMRScan.buildbin-libdir && mkdir DMRScan.buildbin-libdir && D:\biocbuild\bbs-3.15-bioc\R\bin\R.exe CMD INSTALL --build --library=DMRScan.buildbin-libdir DMRScan_1.17.0.tar.gz
StartedAt: 2022-01-17 20:55:00 -0500 (Mon, 17 Jan 2022)
EndedAt: 2022-01-17 20:56:08 -0500 (Mon, 17 Jan 2022)
EllapsedTime: 68.5 seconds
RetCode: 0
Status:   OK  
PackageFile: DMRScan_1.17.0.zip
PackageFileSize: 5.1 MiB

Command output

##############################################################################
##############################################################################
###
### Running command:
###
###   rm -rf DMRScan.buildbin-libdir && mkdir DMRScan.buildbin-libdir && D:\biocbuild\bbs-3.15-bioc\R\bin\R.exe CMD INSTALL --build --library=DMRScan.buildbin-libdir DMRScan_1.17.0.tar.gz
###
##############################################################################
##############################################################################


* installing *source* package 'DMRScan' ...
** using staged installation
** R
** data
*** moving datasets to lazyload DB
** inst
** byte-compile and prepare package for lazy loading
** help
*** installing help indices
  converting help for package 'DMRScan'
    finding HTML links ... done
    DMRScan.methylationData                 html  
    DMRScan.phenotypes                      html  
    DMRScan_package                         html  
    finding level-2 HTML links ... done

    DMRScan_slidingWindow                   html  
    Rt-methods                              html  
    St-methods                              html  
    estimateThreshold                       html  
    makeCpGgenes                            html  
    makeCpGregions                          html  
** building package indices
** installing vignettes
** testing if installed package can be loaded from temporary location
** testing if installed package can be loaded from final location
** testing if installed package keeps a record of temporary installation path
* MD5 sums
packaged installation of 'DMRScan' as DMRScan_1.17.0.zip
* DONE (DMRScan)