Index of /checkResults/devel/bioc-LATEST/DMRScan/raw-results

[ICO]NameLast modifiedSizeDescription

[DIR]Parent Directory  -  
[   ]info.dcf24-May-2022 00:07 268  
[DIR]lconway/24-May-2022 00:07 -  
[DIR]nebbiolo2/24-May-2022 00:04 -  
[DIR]palomino4/24-May-2022 00:06 -