Index of /checkResults/devel/bioc-LATEST/DMCHMM/raw-results/nebbiolo2

[ICO]NameLast modifiedSizeDescription

[DIR]Parent Directory  -  
[TXT]buildsrc-out.txt02-Jul-2022 00:04 842  
[   ]buildsrc-summary.dcf02-Jul-2022 00:04 414  
[TXT]checksrc-out.txt02-Jul-2022 00:04 3.6K 
[   ]checksrc-summary.dcf02-Jul-2022 00:04 420  
[TXT]install-out.txt02-Jul-2022 00:04 944  
[   ]install-summary.dcf02-Jul-2022 00:04 257