Back to Multiple platform build/check report for BioC 3.15
ABC[D]EFGHIJKLMNOPQRSTUVWXYZ

This page was generated on 2022-01-26 11:07:32 -0500 (Wed, 26 Jan 2022).

HostnameOSArch (*)R versionInstalled pkgs
nebbiolo1Linux (Ubuntu 20.04.4 LTS)x86_64R Under development (unstable) (2022-01-05 r81451) -- "Unsuffered Consequences" 4164
riesling1Windows Server 2019 Standardx64R Under development (unstable) (2021-11-21 r81221) -- "Unsuffered Consequences" 4059
palomino3Windows Server 2022 Datacenterx64R Under development (unstable) (2021-12-21 r81400 ucrt) -- "Unsuffered Consequences" 4001
merida1macOS 10.14.6 Mojavex86_64R Under development (unstable) (2022-01-05 r81451) -- "Unsuffered Consequences" 4118
Click on any hostname to see more info about the system (e.g. compilers)      (*) as reported by 'uname -p', except on Windows and Mac OS X

BUILD BIN results for DMCFB on riesling1


To the developers/maintainers of the DMCFB package:
- Please allow up to 24 hours (and sometimes 48 hours) for your latest push to git@git.bioconductor.org:packages/DMCFB.git to
reflect on this report. See How and When does the builder pull? When will my changes propagate? here for more information.
- Make sure to use the following settings in order to reproduce any error or warning you see on this page.

raw results

Package 524/2075HostnameOS / ArchINSTALLBUILDCHECKBUILD BIN
DMCFB 1.9.0  (landing page)
Farhad Shokoohi
Snapshot Date: 2022-01-25 13:55:17 -0500 (Tue, 25 Jan 2022)
git_url: https://git.bioconductor.org/packages/DMCFB
git_branch: master
git_last_commit: b4b8c82
git_last_commit_date: 2021-10-26 12:54:46 -0500 (Tue, 26 Oct 2021)
nebbiolo1Linux (Ubuntu 20.04.4 LTS) / x86_64  OK    OK    OK  UNNEEDED, same version is already published
riesling1Windows Server 2019 Standard / x64  OK    OK    OK    OK  
palomino3Windows Server 2022 Datacenter / x64  OK    OK    OK    OK  NO, package depends on 'SummarizedExperiment' which is not available
merida1macOS 10.14.6 Mojave / x86_64  OK    OK    OK    OK  UNNEEDED, same version is already published

Summary

Package: DMCFB
Version: 1.9.0
Command: rm -rf DMCFB.buildbin-libdir && mkdir DMCFB.buildbin-libdir && D:\biocbuild\bbs-3.15-bioc\R\bin\R.exe CMD INSTALL --build --library=DMCFB.buildbin-libdir DMCFB_1.9.0.tar.gz
StartedAt: 2022-01-25 20:54:52 -0500 (Tue, 25 Jan 2022)
EndedAt: 2022-01-25 20:55:47 -0500 (Tue, 25 Jan 2022)
EllapsedTime: 54.6 seconds
RetCode: 0
Status:   OK  
PackageFile: DMCFB_1.9.0.zip
PackageFileSize: 1.099 MiB

Command output

##############################################################################
##############################################################################
###
### Running command:
###
###   rm -rf DMCFB.buildbin-libdir && mkdir DMCFB.buildbin-libdir && D:\biocbuild\bbs-3.15-bioc\R\bin\R.exe CMD INSTALL --build --library=DMCFB.buildbin-libdir DMCFB_1.9.0.tar.gz
###
##############################################################################
##############################################################################


* installing *source* package 'DMCFB' ...
** using staged installation
** R
** inst
** byte-compile and prepare package for lazy loading
** help
*** installing help indices
  converting help for package 'DMCFB'
    finding HTML links ... done
    BSDMC-class                             html  
    finding level-2 HTML links ... done

    DMCFB-package                           html  
    cBSDMC-method                           html  
    combine-method                          html  
    findDMCFB-method                        html  
    methLevels-method                       html  
    methReads-method                        html  
    params                                  html  
    plotDMCFB-method                        html  
    readBismark-method                      html  
    totalReads-method                       html  
** building package indices
** installing vignettes
** testing if installed package can be loaded from temporary location
** testing if installed package can be loaded from final location
** testing if installed package keeps a record of temporary installation path
* MD5 sums
packaged installation of 'DMCFB' as DMCFB_1.9.0.zip
* DONE (DMCFB)