Name | Last modified | Size | Description | |
---|---|---|---|---|
Parent Directory | - | |||
buildbin-out.txt | 28-Jul-2024 00:39 | 1.0K | ||
buildbin-summary.dcf | 28-Jul-2024 00:39 | 503 | ||
buildsrc-out.txt | 28-Jul-2024 00:39 | 866 | ||
buildsrc-summary.dcf | 28-Jul-2024 00:39 | 442 | ||
checksrc-out.txt | 28-Jul-2024 00:39 | 3.3K | ||
checksrc-summary.dcf | 28-Jul-2024 00:39 | 439 | ||
install-out.txt | 28-Jul-2024 00:39 | 956 | ||
install-summary.dcf | 28-Jul-2024 00:39 | 264 | ||