Back to Multiple platform build/check report for BioC 3.19:   simplified   long
ABC[D]EFGHIJKLMNOPQRSTUVWXYZ

This page was generated on 2024-02-22 12:48:06 -0500 (Thu, 22 Feb 2024).

HostnameOSArch (*)R versionInstalled pkgs
nebbiolo1Linux (Ubuntu 22.04.3 LTS)x86_64R Under development (unstable) (2024-01-16 r85808) -- "Unsuffered Consequences" 4657
palomino3Windows Server 2022 Datacenterx64R Under development (unstable) (2024-01-14 r85805 ucrt) -- "Unsuffered Consequences" 4397
Click on any hostname to see more info about the system (e.g. compilers)      (*) as reported by 'uname -p', except on Windows and Mac OS X

Package 579/2244HostnameOS / ArchINSTALLBUILDCHECKBUILD BIN
DMCFB 1.17.2  (landing page)
Farhad Shokoohi
Snapshot Date: 2024-02-21 14:10:10 -0500 (Wed, 21 Feb 2024)
git_url: https://git.bioconductor.org/packages/DMCFB
git_branch: devel
git_last_commit: 4f8dbae
git_last_commit_date: 2024-01-31 21:36:57 -0500 (Wed, 31 Jan 2024)
nebbiolo1Linux (Ubuntu 22.04.3 LTS) / x86_64  OK    OK    OK  UNNEEDED, same version is already published
palomino3Windows Server 2022 Datacenter / x64  OK    OK    OK    OK  UNNEEDED, same version is already published

BUILD results for DMCFB on nebbiolo1


To the developers/maintainers of the DMCFB package:
- Allow up to 24 hours (and sometimes 48 hours) for your latest push to git@git.bioconductor.org:packages/DMCFB.git to reflect on this report. See Troubleshooting Build Report for more information.
- Use the following Renviron settings to reproduce errors and warnings.
- If 'R CMD check' started to fail recently on the Linux builder(s) over a missing dependency, add the missing dependency to 'Suggests:' in your DESCRIPTION file. See Renviron.bioc for more information.

raw results


Summary

Package: DMCFB
Version: 1.17.2
Command: /home/biocbuild/bbs-3.19-bioc/R/bin/R CMD build --keep-empty-dirs --no-resave-data DMCFB
StartedAt: 2024-02-21 16:50:38 -0500 (Wed, 21 Feb 2024)
EndedAt: 2024-02-21 16:52:05 -0500 (Wed, 21 Feb 2024)
EllapsedTime: 87.8 seconds
RetCode: 0
Status:   OK  
PackageFile: DMCFB_1.17.2.tar.gz
PackageFileSize: 1.04 MiB

Command output

##############################################################################
##############################################################################
###
### Running command:
###
###   /home/biocbuild/bbs-3.19-bioc/R/bin/R CMD build --keep-empty-dirs --no-resave-data DMCFB
###
##############################################################################
##############################################################################


* checking for file ‘DMCFB/DESCRIPTION’ ... OK
* preparing ‘DMCFB’:
* checking DESCRIPTION meta-information ... OK
* installing the package to build vignettes
* creating vignettes ... OK
* checking for LF line-endings in source and make files and shell scripts
* checking for empty or unneeded directories
Omitted ‘LazyData’ from DESCRIPTION
* building ‘DMCFB_1.17.2.tar.gz’