Back to Multiple platform build/check report for BioC 3.15
ABC[D]EFGHIJKLMNOPQRSTUVWXYZ

This page was generated on 2021-11-30 13:54:50 -0500 (Tue, 30 Nov 2021).

INSTALL results for DExMA on riesling1

To the developers/maintainers of the DExMA package:
- Please allow up to 24 hours (and sometimes 48 hours) for your latest push to git@git.bioconductor.org:packages/DExMA.git to
reflect on this report. See How and When does the builder pull? When will my changes propagate? here for more information.
- Make sure to use the following settings in order to reproduce any error or warning you see on this page.

raw results

Package 496/2068HostnameOS / ArchINSTALLBUILDCHECKBUILD BIN
DExMA 1.3.1  (landing page)
Juan Antonio Villatoro-GarcĂ­a
Snapshot Date: 2021-11-29 14:50:17 -0500 (Mon, 29 Nov 2021)
git_url: https://git.bioconductor.org/packages/DExMA
git_branch: master
git_last_commit: 654dbef
git_last_commit_date: 2021-11-26 13:06:34 -0500 (Fri, 26 Nov 2021)
nebbiolo1Linux (Ubuntu 20.04.3 LTS) / x86_64  OK    OK    OK  UNNEEDED, same version is already published
riesling1Windows Server 2019 Standard / x64  OK    OK    OK    OK  
merida1macOS 10.14.6 Mojave / x86_64  OK    OK    OK    OK  UNNEEDED, same version is already published

Summary

Package: DExMA
Version: 1.3.1
Command: C:\cygwin\bin\curl.exe -O http://155.52.207.165/BBS/3.15/bioc/src/contrib/DExMA_1.3.1.tar.gz && rm -rf DExMA.buildbin-libdir && mkdir DExMA.buildbin-libdir && D:\biocbuild\bbs-3.15-bioc\R\bin\R.exe CMD INSTALL --merge-multiarch --build --library=DExMA.buildbin-libdir DExMA_1.3.1.tar.gz && D:\biocbuild\bbs-3.15-bioc\R\bin\R.exe CMD INSTALL DExMA_1.3.1.zip && rm DExMA_1.3.1.tar.gz DExMA_1.3.1.zip
StartedAt: 2021-11-29 18:47:14 -0500 (Mon, 29 Nov 2021)
EndedAt: 2021-11-29 18:50:19 -0500 (Mon, 29 Nov 2021)
EllapsedTime: 185.0 seconds
RetCode: 0
Status:   OK  

Command output

##############################################################################
##############################################################################
###
### Running command:
###
###   C:\cygwin\bin\curl.exe -O http://155.52.207.165/BBS/3.15/bioc/src/contrib/DExMA_1.3.1.tar.gz && rm -rf DExMA.buildbin-libdir && mkdir DExMA.buildbin-libdir && D:\biocbuild\bbs-3.15-bioc\R\bin\R.exe CMD INSTALL --merge-multiarch --build --library=DExMA.buildbin-libdir DExMA_1.3.1.tar.gz && D:\biocbuild\bbs-3.15-bioc\R\bin\R.exe CMD INSTALL DExMA_1.3.1.zip && rm DExMA_1.3.1.tar.gz DExMA_1.3.1.zip
###
##############################################################################
##############################################################################


  % Total    % Received % Xferd  Average Speed   Time    Time     Time  Current
                                 Dload  Upload   Total   Spent    Left  Speed

  0     0    0     0    0     0      0      0 --:--:-- --:--:-- --:--:--     0
100 32488  100 32488    0     0   275k      0 --:--:-- --:--:-- --:--:--  275k
only one architecture so ignoring '--merge-multiarch'
* installing *source* package 'DExMA' ...
** using staged installation
** R
** inst
** byte-compile and prepare package for lazy loading
** help
*** installing help indices
  converting help for package 'DExMA'
    finding HTML links ... done
    allSameID                               html  
    batchRemove                             html  
    calculateES                             html  
    createObjectMA                          html  
    dataLog                                 html  
    downloadGEOData                         html  
    elementObjectMA                         html  
    heterogeneityTest                       html  
    makeHeatmap                             html  
    metaAnalysisDE                          html  
    missGenesImput                          html  
    pvalueIndAnalysis                       html  
    seeCov                                  html  
** building package indices
** installing vignettes
** testing if installed package can be loaded from temporary location
** testing if installed package can be loaded from final location
** testing if installed package keeps a record of temporary installation path
* MD5 sums
packaged installation of 'DExMA' as DExMA_1.3.1.zip
* DONE (DExMA)
* installing to library 'D:/biocbuild/bbs-3.15-bioc/R/library'
package 'DExMA' successfully unpacked and MD5 sums checked