Back to Multiple platform build/check report for BioC 3.15
ABC[D]EFGHIJKLMNOPQRSTUVWXYZ

This page was generated on 2022-01-25 11:07:06 -0500 (Tue, 25 Jan 2022).

HostnameOSArch (*)R versionInstalled pkgs
nebbiolo1Linux (Ubuntu 20.04.4 LTS)x86_64R Under development (unstable) (2022-01-05 r81451) -- "Unsuffered Consequences" 4164
riesling1Windows Server 2019 Standardx64R Under development (unstable) (2021-11-21 r81221) -- "Unsuffered Consequences" 4059
palomino3Windows Server 2022 Datacenterx64R Under development (unstable) (2021-12-21 r81400 ucrt) -- "Unsuffered Consequences" 4001
merida1macOS 10.14.6 Mojavex86_64R Under development (unstable) (2022-01-05 r81451) -- "Unsuffered Consequences" 4118
Click on any hostname to see more info about the system (e.g. compilers)      (*) as reported by 'uname -p', except on Windows and Mac OS X

BUILD BIN results for DEWSeq on riesling1


To the developers/maintainers of the DEWSeq package:
- Please allow up to 24 hours (and sometimes 48 hours) for your latest push to git@git.bioconductor.org:packages/DEWSeq.git to
reflect on this report. See How and When does the builder pull? When will my changes propagate? here for more information.
- Make sure to use the following settings in order to reproduce any error or warning you see on this page.

raw results

Package 499/2075HostnameOS / ArchINSTALLBUILDCHECKBUILD BIN
DEWSeq 1.9.1  (landing page)
bioinformatics team Hentze
Snapshot Date: 2022-01-24 13:55:18 -0500 (Mon, 24 Jan 2022)
git_url: https://git.bioconductor.org/packages/DEWSeq
git_branch: master
git_last_commit: a5f50fc
git_last_commit_date: 2021-11-20 03:58:27 -0500 (Sat, 20 Nov 2021)
nebbiolo1Linux (Ubuntu 20.04.4 LTS) / x86_64  OK    OK    OK  UNNEEDED, same version is already published
riesling1Windows Server 2019 Standard / x64  OK    OK    OK    OK  
palomino3Windows Server 2022 Datacenter / x64  OK    OK    OK    OK  NO, package depends on 'DESeq2' which is not available
merida1macOS 10.14.6 Mojave / x86_64  OK    OK    OK    OK  UNNEEDED, same version is already published

Summary

Package: DEWSeq
Version: 1.9.1
Command: rm -rf DEWSeq.buildbin-libdir && mkdir DEWSeq.buildbin-libdir && D:\biocbuild\bbs-3.15-bioc\R\bin\R.exe CMD INSTALL --build --library=DEWSeq.buildbin-libdir DEWSeq_1.9.1.tar.gz
StartedAt: 2022-01-24 20:49:26 -0500 (Mon, 24 Jan 2022)
EndedAt: 2022-01-24 20:50:25 -0500 (Mon, 24 Jan 2022)
EllapsedTime: 58.6 seconds
RetCode: 0
Status:   OK  
PackageFile: DEWSeq_1.9.1.zip
PackageFileSize: 2.376 MiB

Command output

##############################################################################
##############################################################################
###
### Running command:
###
###   rm -rf DEWSeq.buildbin-libdir && mkdir DEWSeq.buildbin-libdir && D:\biocbuild\bbs-3.15-bioc\R\bin\R.exe CMD INSTALL --build --library=DEWSeq.buildbin-libdir DEWSeq_1.9.1.tar.gz
###
##############################################################################
##############################################################################


* installing *source* package 'DEWSeq' ...
** using staged installation
** R
** data
** inst
** byte-compile and prepare package for lazy loading
** help
*** installing help indices
  converting help for package 'DEWSeq'
    finding HTML links ... done
    DESeqDataSetFromSlidingWindows          html  
    SLBP_K562_w50s20                        html  
    dot-readAnnotation                      html  
    extractRegions                          html  
    resultsDEWSeq                           html  
    finding level-2 HTML links ... done

    slbpDds                                 html  
    slbpRegions                             html  
    slbpVst                                 html  
    slbpWindows                             html  
    toBED                                   html  
    topWindowStats                          html  
** building package indices
** installing vignettes
** testing if installed package can be loaded from temporary location
** testing if installed package can be loaded from final location
** testing if installed package keeps a record of temporary installation path
* MD5 sums
packaged installation of 'DEWSeq' as DEWSeq_1.9.1.zip
* DONE (DEWSeq)