Name | Last modified | Size | Description | |
---|---|---|---|---|
Parent Directory | - | |||
install-summary.dcf | 27-Jul-2024 00:39 | 266 | ||
checksrc-summary.dcf | 27-Jul-2024 00:39 | 443 | ||
buildsrc-summary.dcf | 27-Jul-2024 00:39 | 449 | ||
buildbin-summary.dcf | 27-Jul-2024 00:39 | 508 | ||
buildsrc-out.txt | 27-Jul-2024 00:39 | 894 | ||
install-out.txt | 27-Jul-2024 00:39 | 968 | ||
buildbin-out.txt | 27-Jul-2024 00:39 | 1.1K | ||
checksrc-out.txt | 27-Jul-2024 00:39 | 4.0K | ||