Name | Last modified | Size | Description | |
---|---|---|---|---|
Parent Directory | - | |||
install-summary.dcf | 17-Jul-2024 00:40 | 272 | ||
install-out.txt | 17-Jul-2024 00:40 | 1.0K | ||
checksrc-summary.dcf | 17-Jul-2024 00:40 | 455 | ||
checksrc-out.txt | 17-Jul-2024 00:40 | 4.1K | ||
buildsrc-summary.dcf | 17-Jul-2024 00:40 | 455 | ||
buildsrc-out.txt | 17-Jul-2024 00:40 | 900 | ||
buildbin-summary.dcf | 17-Jul-2024 00:40 | 514 | ||
buildbin-out.txt | 17-Jul-2024 00:40 | 1.1K | ||