![]() | Name | Last modified | Size | Description |
---|---|---|---|---|
![]() | Parent Directory | - | ||
![]() | buildbin-out.txt | 28-Sep-2023 00:37 | 1.1K | |
![]() | buildbin-summary.dcf | 28-Sep-2023 00:37 | 509 | |
![]() | buildsrc-out.txt | 28-Sep-2023 00:37 | 894 | |
![]() | buildsrc-summary.dcf | 28-Sep-2023 00:37 | 445 | |
![]() | checksrc-out.txt | 28-Sep-2023 00:37 | 4.0K | |
![]() | checksrc-summary.dcf | 28-Sep-2023 00:37 | 443 | |
![]() | install-out.txt | 28-Sep-2023 00:37 | 968 | |
![]() | install-summary.dcf | 28-Sep-2023 00:37 | 266 | |