![]() | Name | Last modified | Size | Description |
---|---|---|---|---|
![]() | Parent Directory | - | ||
![]() | buildsrc-out.txt | 03-Oct-2023 00:36 | 865 | |
![]() | buildsrc-summary.dcf | 03-Oct-2023 00:36 | 415 | |
![]() | checksrc-out.txt | 03-Oct-2023 00:36 | 4.6K | |
![]() | checksrc-summary.dcf | 03-Oct-2023 00:36 | 414 | |
![]() | install-out.txt | 03-Oct-2023 00:36 | 957 | |
![]() | install-summary.dcf | 03-Oct-2023 00:36 | 257 | |