Index of /checkResults/devel/bioc-LATEST/DEWSeq/raw-results/kunpeng2

[ICO]NameLast modifiedSizeDescription

[DIR]Parent Directory  -  
[TXT]buildsrc-out.txt29-Nov-2023 01:39 1.0K 
[   ]buildsrc-summary.dcf29-Nov-2023 01:39 340  
[TXT]install-out.txt29-Nov-2023 01:39 1.0K 
[   ]install-summary.dcf29-Nov-2023 01:39 266