Name | Last modified | Size | Description | |
---|---|---|---|---|
Parent Directory | - | |||
buildbin-out.txt | 28-Jul-2024 00:42 | 1.1K | ||
buildbin-summary.dcf | 28-Jul-2024 00:42 | 523 | ||
buildsrc-out.txt | 28-Jul-2024 00:42 | 875 | ||
buildsrc-summary.dcf | 28-Jul-2024 00:42 | 424 | ||
checksrc-out.txt | 28-Jul-2024 00:42 | 4.0K | ||
checksrc-summary.dcf | 28-Jul-2024 00:42 | 439 | ||
install-out.txt | 28-Jul-2024 00:42 | 1.0K | ||
install-summary.dcf | 28-Jul-2024 00:42 | 266 | ||