Index of /checkResults/devel/bioc-LATEST/DEWSeq/raw-results
Name
Last modified
Size
Description
Parent Directory
-
info.dcf
23-Sep-2023 00:40
273
kunpeng2/
23-Sep-2023 00:40
-
lconway/
23-Sep-2023 00:39
-
nebbiolo2/
23-Sep-2023 00:36
-
palomino4/
23-Sep-2023 00:37
-