Name | Last modified | Size | Description | |
---|---|---|---|---|
Parent Directory | - | |||
buildsrc-out.txt | 09-Jul-2024 00:44 | 856 | ||
buildsrc-summary.dcf | 09-Jul-2024 00:44 | 404 | ||
checksrc-out.txt | 09-Jul-2024 00:44 | 3.5K | ||
checksrc-summary.dcf | 09-Jul-2024 00:44 | 403 | ||
install-out.txt | 07-Jul-2024 00:44 | 942 | ||
install-summary.dcf | 07-Jul-2024 00:44 | 246 | ||