Name | Last modified | Size | Description | |
---|---|---|---|---|
Parent Directory | - | |||
install-out.txt | 29-Jun-2024 00:37 | 1.0K | ||
install-summary.dcf | 29-Jun-2024 00:37 | 251 | ||
buildsrc-out.txt | 29-Jun-2024 00:37 | 814 | ||
buildsrc-summary.dcf | 29-Jun-2024 00:37 | 407 | ||
checksrc-out.txt | 29-Jun-2024 00:37 | 3.9K | ||
checksrc-summary.dcf | 29-Jun-2024 00:37 | 404 | ||