Back to Multiple platform build/check report for BioC 3.14
ABC[D]EFGHIJKLMNOPQRSTUVWXYZ

This page was generated on 2021-10-20 12:05:05 -0400 (Wed, 20 Oct 2021).

INSTALL results for DEGreport on riesling1

To the developers/maintainers of the DEGreport package:
- Please allow up to 24 hours (and sometimes 48 hours) for your latest push to git@git.bioconductor.org:packages/DEGreport.git to
reflect on this report. See How and When does the builder pull? When will my changes propagate? here for more information.
- Make sure to use the following settings in order to reproduce any error or warning you see on this page.

raw results

Package 472/2072HostnameOS / ArchINSTALLBUILDCHECKBUILD BIN
DEGreport 1.29.0  (landing page)
Lorena Pantano
Snapshot Date: 2021-10-19 14:50:04 -0400 (Tue, 19 Oct 2021)
git_url: https://git.bioconductor.org/packages/DEGreport
git_branch: master
git_last_commit: a1579b1
git_last_commit_date: 2021-05-19 12:05:35 -0400 (Wed, 19 May 2021)
nebbiolo2Linux (Ubuntu 20.04.2 LTS) / x86_64  OK    OK    OK  UNNEEDED, same version is already published
riesling1Windows Server 2019 Standard / x64  OK    OK    OK    OK  UNNEEDED, same version is already published
merida1macOS 10.14.6 Mojave / x86_64  OK    OK    OK    OK  UNNEEDED, same version is already published

Summary

Package: DEGreport
Version: 1.29.0
Command: C:\cygwin\bin\curl.exe -O http://155.52.207.166/BBS/3.14/bioc/src/contrib/DEGreport_1.29.0.tar.gz && rm -rf DEGreport.buildbin-libdir && mkdir DEGreport.buildbin-libdir && D:\biocbuild\bbs-3.14-bioc\R\bin\R.exe CMD INSTALL --merge-multiarch --build --library=DEGreport.buildbin-libdir DEGreport_1.29.0.tar.gz && D:\biocbuild\bbs-3.14-bioc\R\bin\R.exe CMD INSTALL DEGreport_1.29.0.zip && rm DEGreport_1.29.0.tar.gz DEGreport_1.29.0.zip
StartedAt: 2021-10-19 18:21:06 -0400 (Tue, 19 Oct 2021)
EndedAt: 2021-10-19 18:24:10 -0400 (Tue, 19 Oct 2021)
EllapsedTime: 183.9 seconds
RetCode: 0
Status:   OK  

Command output

##############################################################################
##############################################################################
###
### Running command:
###
###   C:\cygwin\bin\curl.exe -O http://155.52.207.166/BBS/3.14/bioc/src/contrib/DEGreport_1.29.0.tar.gz && rm -rf DEGreport.buildbin-libdir && mkdir DEGreport.buildbin-libdir && D:\biocbuild\bbs-3.14-bioc\R\bin\R.exe CMD INSTALL --merge-multiarch --build --library=DEGreport.buildbin-libdir DEGreport_1.29.0.tar.gz && D:\biocbuild\bbs-3.14-bioc\R\bin\R.exe CMD INSTALL DEGreport_1.29.0.zip && rm DEGreport_1.29.0.tar.gz DEGreport_1.29.0.zip
###
##############################################################################
##############################################################################


  % Total    % Received % Xferd  Average Speed   Time    Time     Time  Current
                                 Dload  Upload   Total   Spent    Left  Speed

  0     0    0     0    0     0      0      0 --:--:-- --:--:-- --:--:--     0
  4 18.1M    4  820k    0     0  1961k      0  0:00:09 --:--:--  0:00:09 1961k
 24 18.1M   24 4527k    0     0  3192k      0  0:00:05  0:00:01  0:00:04 3190k
 53 18.1M   53 9836k    0     0  4061k      0  0:00:04  0:00:02  0:00:02 4059k
 85 18.1M   85 15.4M    0     0  4621k      0  0:00:04  0:00:03  0:00:01 4619k
100 18.1M  100 18.1M    0     0  4800k      0  0:00:03  0:00:03 --:--:-- 4798k

install for i386

* installing *source* package 'DEGreport' ...
** using staged installation
** R
** data
** inst
** byte-compile and prepare package for lazy loading
** help
*** installing help indices
  converting help for package 'DEGreport'
    finding HTML links ... done
    DEGSet                                  html  
    DEGreport-deprecated                    html  
    createReport                            html  
    deg                                     html  
    degCheckFactors                         html  
    degColors                               html  
    degComps                                html  
    degCorCov                               html  
    degCovariates                           html  
    degDefault                              html  
    degFilter                               html  
    degMA                                   html  
    finding level-2 HTML links ... done

    degMB                                   html  
    degMDS                                  html  
    degMV                                   html  
    degMean                                 html  
    degMerge                                html  
    degObj                                  html  
    degPCA                                  html  
    degPatterns                             html  
    degPlot                                 html  
    degPlotCluster                          html  
    degPlotWide                             html  
    degQC                                   html  
    degResults                              html  
    degSignature                            html  
    degSummary                              html  
    degVB                                   html  
    degVar                                  html  
    degVolcano                              html  
    geneInfo                                html  
    geom_cor                                html  
    humanGender                             html  
    significants                            html  
** building package indices
** installing vignettes
** testing if installed package can be loaded from temporary location
** testing if installed package can be loaded from final location
** testing if installed package keeps a record of temporary installation path

install for x64

* installing *source* package 'DEGreport' ...
** testing if installed package can be loaded
* MD5 sums
packaged installation of 'DEGreport' as DEGreport_1.29.0.zip
* DONE (DEGreport)
* installing to library 'D:/biocbuild/bbs-3.14-bioc/R/library'
package 'DEGreport' successfully unpacked and MD5 sums checked