Back to Multiple platform build/check report for BioC 3.14
ABC[D]EFGHIJKLMNOPQRSTUVWXYZ

This page was generated on 2021-10-22 12:04:23 -0400 (Fri, 22 Oct 2021).

CHECK results for DEGreport on riesling1

To the developers/maintainers of the DEGreport package:
- Please allow up to 24 hours (and sometimes 48 hours) for your latest push to git@git.bioconductor.org:packages/DEGreport.git to
reflect on this report. See How and When does the builder pull? When will my changes propagate? here for more information.
- Make sure to use the following settings in order to reproduce any error or warning you see on this page.

raw results

Package 472/2075HostnameOS / ArchINSTALLBUILDCHECKBUILD BIN
DEGreport 1.29.0  (landing page)
Lorena Pantano
Snapshot Date: 2021-10-21 14:50:08 -0400 (Thu, 21 Oct 2021)
git_url: https://git.bioconductor.org/packages/DEGreport
git_branch: master
git_last_commit: a1579b1
git_last_commit_date: 2021-05-19 12:05:35 -0400 (Wed, 19 May 2021)
nebbiolo2Linux (Ubuntu 20.04.2 LTS) / x86_64  OK    OK    OK  UNNEEDED, same version is already published
riesling1Windows Server 2019 Standard / x64  OK    OK    OK    OK  UNNEEDED, same version is already published
merida1macOS 10.14.6 Mojave / x86_64  OK    OK    OK    OK  UNNEEDED, same version is already published

Summary

Package: DEGreport
Version: 1.29.0
Command: D:\biocbuild\bbs-3.14-bioc\R\bin\R.exe CMD check --force-multiarch --install=check:DEGreport.install-out.txt --library=D:\biocbuild\bbs-3.14-bioc\R\library --no-vignettes --timings DEGreport_1.29.0.tar.gz
StartedAt: 2021-10-22 00:42:26 -0400 (Fri, 22 Oct 2021)
EndedAt: 2021-10-22 00:52:03 -0400 (Fri, 22 Oct 2021)
EllapsedTime: 577.3 seconds
RetCode: 0
Status:   OK  
CheckDir: DEGreport.Rcheck
Warnings: 0

Command output

##############################################################################
##############################################################################
###
### Running command:
###
###   D:\biocbuild\bbs-3.14-bioc\R\bin\R.exe CMD check --force-multiarch --install=check:DEGreport.install-out.txt --library=D:\biocbuild\bbs-3.14-bioc\R\library --no-vignettes --timings DEGreport_1.29.0.tar.gz
###
##############################################################################
##############################################################################


* using log directory 'D:/biocbuild/bbs-3.14-bioc/meat/DEGreport.Rcheck'
* using R version 4.1.1 (2021-08-10)
* using platform: x86_64-w64-mingw32 (64-bit)
* using session charset: ISO8859-1
* using option '--no-vignettes'
* checking for file 'DEGreport/DESCRIPTION' ... OK
* checking extension type ... Package
* this is package 'DEGreport' version '1.29.0'
* package encoding: UTF-8
* checking package namespace information ... OK
* checking package dependencies ... OK
* checking if this is a source package ... OK
* checking if there is a namespace ... OK
* checking for hidden files and directories ... NOTE
Found the following hidden files and directories:
  .travis.yml
These were most likely included in error. See section 'Package
structure' in the 'Writing R Extensions' manual.
* checking for portable file names ... OK
* checking whether package 'DEGreport' can be installed ... OK
* checking installed package size ... OK
* checking package directory ... OK
* checking 'build' directory ... OK
* checking DESCRIPTION meta-information ... OK
* checking top-level files ... OK
* checking for left-over files ... OK
* checking index information ... OK
* checking package subdirectories ... OK
* checking R files for non-ASCII characters ... OK
* checking R files for syntax errors ... OK
* loading checks for arch 'i386'
** checking whether the package can be loaded ... OK
** checking whether the package can be loaded with stated dependencies ... OK
** checking whether the package can be unloaded cleanly ... OK
** checking whether the namespace can be loaded with stated dependencies ... OK
** checking whether the namespace can be unloaded cleanly ... OK
* loading checks for arch 'x64'
** checking whether the package can be loaded ... OK
** checking whether the package can be loaded with stated dependencies ... OK
** checking whether the package can be unloaded cleanly ... OK
** checking whether the namespace can be loaded with stated dependencies ... OK
** checking whether the namespace can be unloaded cleanly ... OK
* checking dependencies in R code ... OK
* checking S3 generic/method consistency ... OK
* checking replacement functions ... OK
* checking foreign function calls ... OK
* checking R code for possible problems ... NOTE
.benckmark_cutoff: no visible binding for global variable 'cutoff'
.benckmark_cutoff: no visible binding for global variable 'cluster'
.convertIDs: no visible global function definition for 'keys'
.correct_fdr: no visible global function definition for 'fdrtool'
.generate_scatter_plot: no visible binding for global variable
  'compare'
.generate_scatter_plot: no visible binding for global variable 'covar'
.get_counts: no visible global function definition for 'counts'
.model: no visible global function definition for 'lm'
.plot_raw: no visible binding for global variable '.x'
.plot_shrunken: no visible binding for global variable '.x'
.process: no visible binding for global variable 'genes'
.process: no visible binding for global variable 'cluster'
.reduce : <anonymous> : <anonymous>: no visible global function
  definition for 'boxplot'
.reduce_covariates : <anonymous>: no visible binding for global
  variable 'fdr'
.reduce_covariates : <anonymous>: no visible binding for global
  variable 'compare'
.reduce_covariates : <anonymous>: no visible binding for global
  variable 'r'
.reduce_covariates : <anonymous>: no visible binding for global
  variable 'p.value'
.run_cluster_profiler: no visible global function definition for
  'enrichGO'
.run_cluster_profiler: no visible global function definition for
  'simplify'
.select_concensus_genes: no visible global function definition for
  'desc'
.select_concensus_genes: no visible binding for global variable 'score'
.select_concensus_genes: no visible binding for global variable 'k'
.select_concensus_genes: no visible binding for global variable
  'itemConsensus'
.summarise_res: no visible binding for global variable 'gene'
.summarise_res: no visible binding for global variable 'value_fdr'
.summarise_res: no visible binding for global variable 'value_fc'
.table_w_fc: no visible binding for global variable 'comp'
.table_w_fc: no visible binding for global variable 'log2FoldChange'
degCheckFactors: no visible binding for global variable 'ratios'
degCorCov: no visible binding for global variable 'compare'
degCovariates: no visible binding for global variable 'x'
degCovariates: no visible binding for global variable 'y'
degCovariates: no visible binding for global variable 'xend'
degCovariates: no visible binding for global variable 'yend'
degCovariates: no visible binding for global variable 'pvalue'
degMA: no visible binding for global variable 'base_mean'
degMA: no visible binding for global variable 'log2fc'
degMV: no visible binding for global variable 'min_median'
degMV: no visible binding for global variable 'max_sd'
degPatterns: no visible global function definition for 'rowMedians'
degPatterns: no visible binding for global variable 'genes'
degPlotCluster: no visible binding for global variable 'genes'
degPlotCluster: no visible binding for global variable 'cluster'
degPlotWide : <anonymous>: no visible binding for global variable
  'count'
significants,TopTags: no visible binding for global variable 'FDR'
significants,TopTags: no visible binding for global variable 'logFC'
significants,list : <anonymous>: no visible binding for global variable
  'gene'
Undefined global functions or variables:
  .x FDR base_mean boxplot cluster comp compare count counts covar
  cutoff desc enrichGO fdr fdrtool gene genes itemConsensus k keys lm
  log2FoldChange log2fc logFC max_sd min_median p.value pvalue r ratios
  rowMedians score simplify value_fc value_fdr x xend y yend
Consider adding
  importFrom("graphics", "boxplot")
  importFrom("stats", "lm")
to your NAMESPACE file.
* checking Rd files ... OK
* checking Rd metadata ... OK
* checking Rd cross-references ... OK
* checking for missing documentation entries ... OK
* checking for code/documentation mismatches ... OK
* checking Rd \usage sections ... OK
* checking Rd contents ... OK
* checking for unstated dependencies in examples ... OK
* checking contents of 'data' directory ... OK
* checking data for non-ASCII characters ... OK
* checking data for ASCII and uncompressed saves ... OK
* checking files in 'vignettes' ... OK
* checking examples ...
** running examples for arch 'i386' ... OK
Examples with CPU (user + system) or elapsed time > 5s
             user system elapsed
degResults   9.45   0.04    9.50
degComps     9.11   0.01    9.13
significants 8.81   0.01   12.17
degPlot      8.53   0.03    8.56
degVB        7.75   0.06   11.16
degVar       7.68   0.04    7.92
degSummary   6.79   0.04    6.83
degMean      6.79   0.03    8.33
DEGSet       6.44   0.14    6.83
degPlotWide  6.21   0.04    6.23
degQC        6.14   0.03    6.17
degMB        5.47   0.03    5.50
degMV        5.39   0.05    5.44
degColors    5.01   0.07    5.08
degMA        4.66   0.00    8.23
** running examples for arch 'x64' ... OK
Examples with CPU (user + system) or elapsed time > 5s
              user system elapsed
degResults   10.60   0.12   10.72
degComps      9.69   0.07    9.75
degPlot       9.49   0.03    9.51
degQC         8.34   0.02    8.36
significants  8.24   0.00    8.24
degVB         7.73   0.05    7.78
degVar        7.61   0.01    7.62
degPlotWide   7.52   0.06    7.58
degMean       7.44   0.01    7.45
DEGSet        7.00   0.20    7.20
degMV         7.12   0.04    7.16
degSummary    6.81   0.02    6.82
degMB         6.63   0.03    6.66
degDefault    5.81   0.03    5.84
degColors     5.60   0.07    5.67
degMA         5.23   0.00    5.23
* checking for unstated dependencies in 'tests' ... OK
* checking tests ...
** running tests for arch 'i386' ...
  Running 'testthat.R'
 OK
** running tests for arch 'x64' ...
  Running 'testthat.R'
 OK
* checking for unstated dependencies in vignettes ... OK
* checking package vignettes in 'inst/doc' ... OK
* checking running R code from vignettes ... SKIPPED
* checking re-building of vignette outputs ... SKIPPED
* checking PDF version of manual ... OK
* DONE

Status: 2 NOTEs
See
  'D:/biocbuild/bbs-3.14-bioc/meat/DEGreport.Rcheck/00check.log'
for details.



Installation output

DEGreport.Rcheck/00install.out

##############################################################################
##############################################################################
###
### Running command:
###
###   C:\cygwin\bin\curl.exe -O http://155.52.207.166/BBS/3.14/bioc/src/contrib/DEGreport_1.29.0.tar.gz && rm -rf DEGreport.buildbin-libdir && mkdir DEGreport.buildbin-libdir && D:\biocbuild\bbs-3.14-bioc\R\bin\R.exe CMD INSTALL --merge-multiarch --build --library=DEGreport.buildbin-libdir DEGreport_1.29.0.tar.gz && D:\biocbuild\bbs-3.14-bioc\R\bin\R.exe CMD INSTALL DEGreport_1.29.0.zip && rm DEGreport_1.29.0.tar.gz DEGreport_1.29.0.zip
###
##############################################################################
##############################################################################


  % Total    % Received % Xferd  Average Speed   Time    Time     Time  Current
                                 Dload  Upload   Total   Spent    Left  Speed

  0     0    0     0    0     0      0      0 --:--:-- --:--:-- --:--:--     0
 11 18.1M   11 2177k    0     0  3076k      0  0:00:06 --:--:--  0:00:06 3076k
 28 18.1M   28 5240k    0     0  3078k      0  0:00:06  0:00:01  0:00:05 3077k
 48 18.1M   48 9049k    0     0  3329k      0  0:00:05  0:00:02  0:00:03 3328k
 74 18.1M   74 13.4M    0     0  3737k      0  0:00:04  0:00:03  0:00:01 3737k
100 18.1M  100 18.1M    0     0  4117k      0  0:00:04  0:00:04 --:--:-- 4117k

install for i386

* installing *source* package 'DEGreport' ...
** using staged installation
** R
** data
** inst
** byte-compile and prepare package for lazy loading
** help
*** installing help indices
  converting help for package 'DEGreport'
    finding HTML links ... done
    DEGSet                                  html  
    DEGreport-deprecated                    html  
    createReport                            html  
    deg                                     html  
    degCheckFactors                         html  
    degColors                               html  
    degComps                                html  
    degCorCov                               html  
    degCovariates                           html  
    degDefault                              html  
    degFilter                               html  
    degMA                                   html  
    finding level-2 HTML links ... done

    degMB                                   html  
    degMDS                                  html  
    degMV                                   html  
    degMean                                 html  
    degMerge                                html  
    degObj                                  html  
    degPCA                                  html  
    degPatterns                             html  
    degPlot                                 html  
    degPlotCluster                          html  
    degPlotWide                             html  
    degQC                                   html  
    degResults                              html  
    degSignature                            html  
    degSummary                              html  
    degVB                                   html  
    degVar                                  html  
    degVolcano                              html  
    geneInfo                                html  
    geom_cor                                html  
    humanGender                             html  
    significants                            html  
** building package indices
** installing vignettes
** testing if installed package can be loaded from temporary location
** testing if installed package can be loaded from final location
** testing if installed package keeps a record of temporary installation path

install for x64

* installing *source* package 'DEGreport' ...
** testing if installed package can be loaded
* MD5 sums
packaged installation of 'DEGreport' as DEGreport_1.29.0.zip
* DONE (DEGreport)
* installing to library 'D:/biocbuild/bbs-3.14-bioc/R/library'
package 'DEGreport' successfully unpacked and MD5 sums checked

Tests output

DEGreport.Rcheck/tests_i386/testthat.Rout


R version 4.1.1 (2021-08-10) -- "Kick Things"
Copyright (C) 2021 The R Foundation for Statistical Computing
Platform: i386-w64-mingw32/i386 (32-bit)

R is free software and comes with ABSOLUTELY NO WARRANTY.
You are welcome to redistribute it under certain conditions.
Type 'license()' or 'licence()' for distribution details.

R is a collaborative project with many contributors.
Type 'contributors()' for more information and
'citation()' on how to cite R or R packages in publications.

Type 'demo()' for some demos, 'help()' for on-line help, or
'help.start()' for an HTML browser interface to help.
Type 'q()' to quit R.

> library(testthat)
> library(edgeR)
Loading required package: limma
> library(DESeq2)
Loading required package: S4Vectors
Loading required package: stats4
Loading required package: BiocGenerics

Attaching package: 'BiocGenerics'

The following object is masked from 'package:limma':

    plotMA

The following objects are masked from 'package:stats':

    IQR, mad, sd, var, xtabs

The following objects are masked from 'package:base':

    Filter, Find, Map, Position, Reduce, anyDuplicated, append,
    as.data.frame, basename, cbind, colnames, dirname, do.call,
    duplicated, eval, evalq, get, grep, grepl, intersect, is.unsorted,
    lapply, mapply, match, mget, order, paste, pmax, pmax.int, pmin,
    pmin.int, rank, rbind, rownames, sapply, setdiff, sort, table,
    tapply, union, unique, unsplit, which.max, which.min


Attaching package: 'S4Vectors'

The following objects are masked from 'package:base':

    I, expand.grid, unname

Loading required package: IRanges

Attaching package: 'IRanges'

The following object is masked from 'package:grDevices':

    windows

Loading required package: GenomicRanges
Loading required package: GenomeInfoDb
Loading required package: SummarizedExperiment
Loading required package: MatrixGenerics
Loading required package: matrixStats

Attaching package: 'MatrixGenerics'

The following objects are masked from 'package:matrixStats':

    colAlls, colAnyNAs, colAnys, colAvgsPerRowSet, colCollapse,
    colCounts, colCummaxs, colCummins, colCumprods, colCumsums,
    colDiffs, colIQRDiffs, colIQRs, colLogSumExps, colMadDiffs,
    colMads, colMaxs, colMeans2, colMedians, colMins, colOrderStats,
    colProds, colQuantiles, colRanges, colRanks, colSdDiffs, colSds,
    colSums2, colTabulates, colVarDiffs, colVars, colWeightedMads,
    colWeightedMeans, colWeightedMedians, colWeightedSds,
    colWeightedVars, rowAlls, rowAnyNAs, rowAnys, rowAvgsPerColSet,
    rowCollapse, rowCounts, rowCummaxs, rowCummins, rowCumprods,
    rowCumsums, rowDiffs, rowIQRDiffs, rowIQRs, rowLogSumExps,
    rowMadDiffs, rowMads, rowMaxs, rowMeans2, rowMedians, rowMins,
    rowOrderStats, rowProds, rowQuantiles, rowRanges, rowRanks,
    rowSdDiffs, rowSds, rowSums2, rowTabulates, rowVarDiffs, rowVars,
    rowWeightedMads, rowWeightedMeans, rowWeightedMedians,
    rowWeightedSds, rowWeightedVars

Loading required package: Biobase
Welcome to Bioconductor

    Vignettes contain introductory material; view with
    'browseVignettes()'. To cite Bioconductor, see
    'citation("Biobase")', and for packages 'citation("pkgname")'.


Attaching package: 'Biobase'

The following object is masked from 'package:MatrixGenerics':

    rowMedians

The following objects are masked from 'package:matrixStats':

    anyMissing, rowMedians

> library(DEGreport)
> 
> test_check("DEGreport")
[ FAIL 0 | WARN 23 | SKIP 0 | PASS 64 ]
> 
> proc.time()
   user  system elapsed 
  31.01    0.64   31.60 

DEGreport.Rcheck/tests_x64/testthat.Rout


R version 4.1.1 (2021-08-10) -- "Kick Things"
Copyright (C) 2021 The R Foundation for Statistical Computing
Platform: x86_64-w64-mingw32/x64 (64-bit)

R is free software and comes with ABSOLUTELY NO WARRANTY.
You are welcome to redistribute it under certain conditions.
Type 'license()' or 'licence()' for distribution details.

R is a collaborative project with many contributors.
Type 'contributors()' for more information and
'citation()' on how to cite R or R packages in publications.

Type 'demo()' for some demos, 'help()' for on-line help, or
'help.start()' for an HTML browser interface to help.
Type 'q()' to quit R.

> library(testthat)
> library(edgeR)
Loading required package: limma
> library(DESeq2)
Loading required package: S4Vectors
Loading required package: stats4
Loading required package: BiocGenerics

Attaching package: 'BiocGenerics'

The following object is masked from 'package:limma':

    plotMA

The following objects are masked from 'package:stats':

    IQR, mad, sd, var, xtabs

The following objects are masked from 'package:base':

    Filter, Find, Map, Position, Reduce, anyDuplicated, append,
    as.data.frame, basename, cbind, colnames, dirname, do.call,
    duplicated, eval, evalq, get, grep, grepl, intersect, is.unsorted,
    lapply, mapply, match, mget, order, paste, pmax, pmax.int, pmin,
    pmin.int, rank, rbind, rownames, sapply, setdiff, sort, table,
    tapply, union, unique, unsplit, which.max, which.min


Attaching package: 'S4Vectors'

The following objects are masked from 'package:base':

    I, expand.grid, unname

Loading required package: IRanges

Attaching package: 'IRanges'

The following object is masked from 'package:grDevices':

    windows

Loading required package: GenomicRanges
Loading required package: GenomeInfoDb
Loading required package: SummarizedExperiment
Loading required package: MatrixGenerics
Loading required package: matrixStats

Attaching package: 'MatrixGenerics'

The following objects are masked from 'package:matrixStats':

    colAlls, colAnyNAs, colAnys, colAvgsPerRowSet, colCollapse,
    colCounts, colCummaxs, colCummins, colCumprods, colCumsums,
    colDiffs, colIQRDiffs, colIQRs, colLogSumExps, colMadDiffs,
    colMads, colMaxs, colMeans2, colMedians, colMins, colOrderStats,
    colProds, colQuantiles, colRanges, colRanks, colSdDiffs, colSds,
    colSums2, colTabulates, colVarDiffs, colVars, colWeightedMads,
    colWeightedMeans, colWeightedMedians, colWeightedSds,
    colWeightedVars, rowAlls, rowAnyNAs, rowAnys, rowAvgsPerColSet,
    rowCollapse, rowCounts, rowCummaxs, rowCummins, rowCumprods,
    rowCumsums, rowDiffs, rowIQRDiffs, rowIQRs, rowLogSumExps,
    rowMadDiffs, rowMads, rowMaxs, rowMeans2, rowMedians, rowMins,
    rowOrderStats, rowProds, rowQuantiles, rowRanges, rowRanks,
    rowSdDiffs, rowSds, rowSums2, rowTabulates, rowVarDiffs, rowVars,
    rowWeightedMads, rowWeightedMeans, rowWeightedMedians,
    rowWeightedSds, rowWeightedVars

Loading required package: Biobase
Welcome to Bioconductor

    Vignettes contain introductory material; view with
    'browseVignettes()'. To cite Bioconductor, see
    'citation("Biobase")', and for packages 'citation("pkgname")'.


Attaching package: 'Biobase'

The following object is masked from 'package:MatrixGenerics':

    rowMedians

The following objects are masked from 'package:matrixStats':

    anyMissing, rowMedians

> library(DEGreport)
> 
> test_check("DEGreport")
[ FAIL 0 | WARN 20 | SKIP 0 | PASS 64 ]
> 
> proc.time()
   user  system elapsed 
  38.00    0.81   38.82 

Example timings

DEGreport.Rcheck/examples_i386/DEGreport-Ex.timings

nameusersystemelapsed
DEGSet6.440.146.83
degCheckFactors1.530.071.61
degColors5.010.075.08
degComps9.110.019.13
degCorCov0.590.000.60
degCovariates1.610.051.65
degDefault4.390.024.41
degFilter0.250.030.28
degMA4.660.008.23
degMB5.470.035.50
degMDS0.600.040.64
degMV5.390.055.44
degMean6.790.038.33
degObj0.250.020.27
degPCA0.560.050.61
degPatterns1.530.031.56
degPlot8.530.038.56
degPlotCluster1.420.041.47
degPlotWide6.210.046.23
degQC6.140.036.17
degResults9.450.049.50
degSignature0.460.000.45
degSummary6.790.046.83
degVB 7.75 0.0611.16
degVar7.680.047.92
degVolcano4.310.074.53
geom_cor0.560.030.59
significants 8.81 0.0112.17

DEGreport.Rcheck/examples_x64/DEGreport-Ex.timings

nameusersystemelapsed
DEGSet7.00.27.2
degCheckFactors1.640.101.74
degColors5.600.075.67
degComps9.690.079.75
degCorCov0.650.010.68
degCovariates1.330.051.37
degDefault5.810.035.84
degFilter0.330.030.36
degMA5.230.005.23
degMB6.630.036.66
degMDS0.680.030.72
degMV7.120.047.16
degMean7.440.017.45
degObj0.360.020.38
degPCA0.690.010.70
degPatterns1.220.031.25
degPlot9.490.039.51
degPlotCluster1.860.051.90
degPlotWide7.520.067.58
degQC8.340.028.36
degResults10.60 0.1210.72
degSignature0.620.000.63
degSummary6.810.026.82
degVB7.730.057.78
degVar7.610.017.62
degVolcano3.720.033.75
geom_cor0.470.020.48
significants8.240.008.24