Back to Multiple platform build/check report for BioC 3.14
ABC[D]EFGHIJKLMNOPQRSTUVWXYZ

This page was generated on 2021-10-23 14:06:23 -0400 (Sat, 23 Oct 2021).

BUILD results for DEFormats on riesling1

To the developers/maintainers of the DEFormats package:
- Please allow up to 24 hours (and sometimes 48 hours) for your latest push to git@git.bioconductor.org:packages/DEFormats.git to
reflect on this report. See How and When does the builder pull? When will my changes propagate? here for more information.
- Make sure to use the following settings in order to reproduce any error or warning you see on this page.

raw results

Package 472/2083HostnameOS / ArchINSTALLBUILDCHECKBUILD BIN
DEFormats 1.21.0  (landing page)
Andrzej OleĊ›
Snapshot Date: 2021-10-22 14:50:11 -0400 (Fri, 22 Oct 2021)
git_url: https://git.bioconductor.org/packages/DEFormats
git_branch: master
git_last_commit: 8c0fdbf
git_last_commit_date: 2021-05-19 12:19:12 -0400 (Wed, 19 May 2021)
nebbiolo2Linux (Ubuntu 20.04.2 LTS) / x86_64  OK    OK    OK  UNNEEDED, same version is already published
riesling1Windows Server 2019 Standard / x64  OK    OK    OK    OK  UNNEEDED, same version is already published
merida1macOS 10.14.6 Mojave / x86_64  OK    OK    OK    OK  UNNEEDED, same version is already published

Summary

Package: DEFormats
Version: 1.21.0
Command: chmod a+r DEFormats -R && D:\biocbuild\bbs-3.14-bioc\R\bin\R.exe CMD build --keep-empty-dirs --no-resave-data DEFormats
StartedAt: 2021-10-22 20:24:50 -0400 (Fri, 22 Oct 2021)
EndedAt: 2021-10-22 20:29:44 -0400 (Fri, 22 Oct 2021)
EllapsedTime: 293.4 seconds
RetCode: 0
Status:   OK  
PackageFile: DEFormats_1.21.0.tar.gz
PackageFileSize: 226.5 KiB

Command output

##############################################################################
##############################################################################
###
### Running command:
###
###   chmod a+r DEFormats -R && D:\biocbuild\bbs-3.14-bioc\R\bin\R.exe CMD build --keep-empty-dirs --no-resave-data DEFormats
###
##############################################################################
##############################################################################


* checking for file 'DEFormats/DESCRIPTION' ... OK
* preparing 'DEFormats':
* checking DESCRIPTION meta-information ... OK
* installing the package to build vignettes
* creating vignettes ... OK
* checking for LF line-endings in source and make files and shell scripts
* checking for empty or unneeded directories
* building 'DEFormats_1.21.0.tar.gz'