Back to Build/check report for BioC 3.15
ABC[D]EFGHIJKLMNOPQRSTUVWXYZ

This page was generated on 2021-12-03 12:48:44 -0500 (Fri, 03 Dec 2021).

INSTALL results for DEComplexDisease on nebbiolo1

To the developers/maintainers of the DEComplexDisease package:
- Please allow up to 24 hours (and sometimes 48 hours) for your latest push to git@git.bioconductor.org:packages/DEComplexDisease.git to
reflect on this report. See How and When does the builder pull? When will my changes propagate? here for more information.
- Make sure to use the following settings in order to reproduce any error or warning you see on this page.

raw results

Package 461/2068HostnameOS / ArchINSTALLBUILDCHECKBUILD BIN
DEComplexDisease 1.15.0  (landing page)
Guofeng Meng
Snapshot Date: 2021-12-02 13:55:08 -0500 (Thu, 02 Dec 2021)
git_url: https://git.bioconductor.org/packages/DEComplexDisease
git_branch: master
git_last_commit: 8bf8b5f
git_last_commit_date: 2021-10-26 12:41:34 -0500 (Tue, 26 Oct 2021)
nebbiolo1Linux (Ubuntu 20.04.3 LTS) / x86_64  OK    ERROR  skipped

Summary

Package: DEComplexDisease
Version: 1.15.0
Command: /home/biocbuild/bbs-3.15-bioc/R/bin/R CMD INSTALL DEComplexDisease
StartedAt: 2021-12-02 15:18:24 -0500 (Thu, 02 Dec 2021)
EndedAt: 2021-12-02 15:19:03 -0500 (Thu, 02 Dec 2021)
EllapsedTime: 38.8 seconds
RetCode: 0
Status:   OK  

Command output

##############################################################################
##############################################################################
###
### Running command:
###
###   /home/biocbuild/bbs-3.15-bioc/R/bin/R CMD INSTALL DEComplexDisease
###
##############################################################################
##############################################################################


* installing to library ‘/home/biocbuild/bbs-3.15-bioc/R/library’
* installing *source* package ‘DEComplexDisease’ ...
** using staged installation
** libs
g++ -std=gnu++14 -I"/home/biocbuild/bbs-3.15-bioc/R/include" -DNDEBUG  -I'/home/biocbuild/bbs-3.15-bioc/R/library/Rcpp/include' -I/usr/local/include   -fpic  -g -O2  -Wall -c RcppExports.cpp -o RcppExports.o
g++ -std=gnu++14 -I"/home/biocbuild/bbs-3.15-bioc/R/include" -DNDEBUG  -I'/home/biocbuild/bbs-3.15-bioc/R/library/Rcpp/include' -I/usr/local/include   -fpic  -g -O2  -Wall -c sig.cpp -o sig.o
g++ -std=gnu++14 -shared -L/home/biocbuild/bbs-3.15-bioc/R/lib -L/usr/local/lib -o DEComplexDisease.so RcppExports.o sig.o -L/home/biocbuild/bbs-3.15-bioc/R/lib -lR
installing to /home/biocbuild/bbs-3.15-bioc/R/library/00LOCK-DEComplexDisease/00new/DEComplexDisease/libs
** R
** data
*** moving datasets to lazyload DB
** inst
** byte-compile and prepare package for lazy loading
** help
*** installing help indices
** building package indices
** installing vignettes
** testing if installed package can be loaded from temporary location
** checking absolute paths in shared objects and dynamic libraries
** testing if installed package can be loaded from final location
** testing if installed package keeps a record of temporary installation path
* DONE (DEComplexDisease)