Back to Multiple platform build/check report for BioC 3.14
ABC[D]EFGHIJKLMNOPQRSTUVWXYZ

This page was generated on 2021-10-23 14:06:56 -0400 (Sat, 23 Oct 2021).

BUILD results for DEComplexDisease on merida1

To the developers/maintainers of the DEComplexDisease package:
- Please allow up to 24 hours (and sometimes 48 hours) for your latest push to git@git.bioconductor.org:packages/DEComplexDisease.git to
reflect on this report. See How and When does the builder pull? When will my changes propagate? here for more information.
- Make sure to use the following settings in order to reproduce any error or warning you see on this page.

raw results

Package 463/2083HostnameOS / ArchINSTALLBUILDCHECKBUILD BIN
DEComplexDisease 1.13.0  (landing page)
Guofeng Meng
Snapshot Date: 2021-10-22 14:50:11 -0400 (Fri, 22 Oct 2021)
git_url: https://git.bioconductor.org/packages/DEComplexDisease
git_branch: master
git_last_commit: 4e90466
git_last_commit_date: 2021-05-19 12:33:11 -0400 (Wed, 19 May 2021)
nebbiolo2Linux (Ubuntu 20.04.2 LTS) / x86_64  OK    OK    OK  UNNEEDED, same version is already published
riesling1Windows Server 2019 Standard / x64  OK    ERROR  skippedskipped
merida1macOS 10.14.6 Mojave / x86_64  OK    OK    OK    OK  UNNEEDED, same version is already published

Summary

Package: DEComplexDisease
Version: 1.13.0
Command: /Library/Frameworks/R.framework/Resources/bin/R CMD build --keep-empty-dirs --no-resave-data DEComplexDisease
StartedAt: 2021-10-22 19:31:57 -0400 (Fri, 22 Oct 2021)
EndedAt: 2021-10-22 19:34:16 -0400 (Fri, 22 Oct 2021)
EllapsedTime: 139.1 seconds
RetCode: 0
Status:   OK  
PackageFile: DEComplexDisease_1.13.0.tar.gz
PackageFileSize: 1.34 MiB

Command output

##############################################################################
##############################################################################
###
### Running command:
###
###   /Library/Frameworks/R.framework/Resources/bin/R CMD build --keep-empty-dirs --no-resave-data DEComplexDisease
###
##############################################################################
##############################################################################


* checking for file ‘DEComplexDisease/DESCRIPTION’ ... OK
* preparing ‘DEComplexDisease’:
* checking DESCRIPTION meta-information ... OK
* cleaning src
* installing the package to build vignettes
* creating vignettes ... OK
* cleaning src
* checking for LF line-endings in source and make files and shell scripts
* checking for empty or unneeded directories
* building ‘DEComplexDisease_1.13.0.tar.gz’