Back to Multiple platform build/check report for BioC 3.14
ABC[D]EFGHIJKLMNOPQRSTUVWXYZ

This page was generated on 2021-10-21 12:05:16 -0400 (Thu, 21 Oct 2021).

BUILD BIN results for DEComplexDisease on merida1

To the developers/maintainers of the DEComplexDisease package:
- Please allow up to 24 hours (and sometimes 48 hours) for your latest push to git@git.bioconductor.org:packages/DEComplexDisease.git to
reflect on this report. See How and When does the builder pull? When will my changes propagate? here for more information.
- Make sure to use the following settings in order to reproduce any error or warning you see on this page.

raw results

Package 460/2075HostnameOS / ArchINSTALLBUILDCHECKBUILD BIN
DEComplexDisease 1.13.0  (landing page)
Guofeng Meng
Snapshot Date: 2021-10-20 14:50:05 -0400 (Wed, 20 Oct 2021)
git_url: https://git.bioconductor.org/packages/DEComplexDisease
git_branch: master
git_last_commit: 4e90466
git_last_commit_date: 2021-05-19 12:33:11 -0400 (Wed, 19 May 2021)
nebbiolo2Linux (Ubuntu 20.04.2 LTS) / x86_64  OK    OK    OK  UNNEEDED, same version is already published
riesling1Windows Server 2019 Standard / x64  OK    OK    OK    OK  UNNEEDED, same version is already published
merida1macOS 10.14.6 Mojave / x86_64  OK    OK    OK    OK  UNNEEDED, same version is already published

Summary

Package: DEComplexDisease
Version: 1.13.0
Command: rm -rf DEComplexDisease.buildbin-libdir && mkdir DEComplexDisease.buildbin-libdir && /Users/biocbuild/BBS/utils/build-universal.sh DEComplexDisease_1.13.0.tar.gz /Library/Frameworks/R.framework/Resources/bin/R DEComplexDisease.buildbin-libdir
StartedAt: 2021-10-21 11:37:18 -0400 (Thu, 21 Oct 2021)
EndedAt: 2021-10-21 11:38:08 -0400 (Thu, 21 Oct 2021)
EllapsedTime: 50.4 seconds
RetCode: 0
Status:   OK  
PackageFile: DEComplexDisease_1.13.0.tgz
PackageFileSize: 1.713 MiB

Command output

##############################################################################
##############################################################################
###
### Running command:
###
###   rm -rf DEComplexDisease.buildbin-libdir && mkdir DEComplexDisease.buildbin-libdir && /Users/biocbuild/BBS/utils/build-universal.sh DEComplexDisease_1.13.0.tar.gz /Library/Frameworks/R.framework/Resources/bin/R DEComplexDisease.buildbin-libdir
###
##############################################################################
##############################################################################


>>>>>>> 
>>>>>>> INSTALLATION WITH 'R CMD INSTALL --preclean --no-multiarch --library=DEComplexDisease.buildbin-libdir DEComplexDisease_1.13.0.tar.gz'
>>>>>>> 

* installing *source* package ‘DEComplexDisease’ ...
** using staged installation
** libs
clang++ -mmacosx-version-min=10.13 -std=gnu++14 -I"/Library/Frameworks/R.framework/Resources/include" -DNDEBUG  -I'/Library/Frameworks/R.framework/Versions/4.1/Resources/library/Rcpp/include' -I/usr/local/include   -fPIC  -Wall -g -O2  -c RcppExports.cpp -o RcppExports.o
clang++ -mmacosx-version-min=10.13 -std=gnu++14 -I"/Library/Frameworks/R.framework/Resources/include" -DNDEBUG  -I'/Library/Frameworks/R.framework/Versions/4.1/Resources/library/Rcpp/include' -I/usr/local/include   -fPIC  -Wall -g -O2  -c sig.cpp -o sig.o
clang++ -mmacosx-version-min=10.13 -std=gnu++14 -dynamiclib -Wl,-headerpad_max_install_names -undefined dynamic_lookup -single_module -multiply_defined suppress -L/Library/Frameworks/R.framework/Resources/lib -L/usr/local/lib -o DEComplexDisease.so RcppExports.o sig.o -F/Library/Frameworks/R.framework/.. -framework R -Wl,-framework -Wl,CoreFoundation
installing to /Users/biocbuild/bbs-3.14-bioc/meat/DEComplexDisease.buildbin-libdir/00LOCK-DEComplexDisease/00new/DEComplexDisease/libs
** R
** data
*** moving datasets to lazyload DB
** inst
** byte-compile and prepare package for lazy loading
** help
*** installing help indices
** building package indices
** installing vignettes
** testing if installed package can be loaded from temporary location
** checking absolute paths in shared objects and dynamic libraries
** testing if installed package can be loaded from final location
** testing if installed package keeps a record of temporary installation path
* DONE (DEComplexDisease)


>>>>>>> 
>>>>>>> FIXING LINKS FOR DEComplexDisease.buildbin-libdir/DEComplexDisease/libs/DEComplexDisease.so
>>>>>>> 

install_name_tool -change "/usr/local/lib/libgcc_s.1.dylib" "/Library/Frameworks/R.framework/Versions/4.1/Resources/lib/libgcc_s.1.dylib" "DEComplexDisease.buildbin-libdir/DEComplexDisease/libs/DEComplexDisease.so"
install_name_tool -change "/usr/local/lib/libgfortran.5.dylib" "/Library/Frameworks/R.framework/Versions/4.1/Resources/lib/libgfortran.5.dylib" "DEComplexDisease.buildbin-libdir/DEComplexDisease/libs/DEComplexDisease.so"
install_name_tool -change "/usr/local/lib/libquadmath.0.dylib" "/Library/Frameworks/R.framework/Versions/4.1/Resources/lib/libquadmath.0.dylib" "DEComplexDisease.buildbin-libdir/DEComplexDisease/libs/DEComplexDisease.so"