Index of /checkResults/devel/bioc-LATEST/DAPAR/raw-results/palomino4

[ICO]NameLast modifiedSizeDescription

[DIR]Parent Directory  -  
[TXT]buildbin-out.txt23-Jun-2022 00:06 1.1K 
[   ]buildbin-summary.dcf23-Jun-2022 00:06 521  
[TXT]buildsrc-out.txt02-Jul-2022 00:05 942  
[   ]buildsrc-summary.dcf02-Jul-2022 00:05 362  
[TXT]checksrc-out.txt23-Jun-2022 00:06 7.5K 
[   ]checksrc-summary.dcf23-Jun-2022 00:06 442  
[TXT]install-out.txt02-Jul-2022 00:05 1.8K 
[   ]install-summary.dcf02-Jul-2022 00:05 610