Index of /checkResults/devel/bioc-LATEST/DAPAR/raw-results/lconway

[ICO]NameLast modifiedSizeDescription

[DIR]Parent Directory  -  
[TXT]buildbin-out.txt23-Jun-2022 00:07 1.1K 
[   ]buildbin-summary.dcf23-Jun-2022 00:07 518  
[TXT]buildsrc-out.txt02-Jul-2022 00:07 930  
[   ]buildsrc-summary.dcf02-Jul-2022 00:07 339  
[TXT]checksrc-out.txt23-Jun-2022 00:07 7.8K 
[   ]checksrc-summary.dcf23-Jun-2022 00:07 436  
[TXT]install-out.txt02-Jul-2022 00:07 1.0K 
[   ]install-summary.dcf02-Jul-2022 00:07 265