Name | Last modified | Size | Description | |
---|---|---|---|---|
Parent Directory | - | |||
install-out.txt | 22-Jun-2024 02:22 | 956 | ||
install-summary.dcf | 22-Jun-2024 02:22 | 265 | ||
buildsrc-out.txt | 22-Jun-2024 02:22 | 736 | ||
buildsrc-summary.dcf | 22-Jun-2024 02:22 | 420 | ||
checksrc-out.txt | 22-Jun-2024 02:22 | 6.4K | ||
checksrc-summary.dcf | 22-Jun-2024 02:22 | 440 | ||
buildbin-out.txt | 22-Jun-2024 02:22 | 1.1K | ||
buildbin-summary.dcf | 22-Jun-2024 02:22 | 518 | ||