Index of /checkResults/devel/bioc-LATEST/DAMEfinder/raw-results/nebbiolo2

[ICO]NameLast modifiedSizeDescription

[DIR]Parent Directory  -  
[TXT]buildsrc-out.txt16-Jun-2024 01:33 905  
[   ]buildsrc-summary.dcf16-Jun-2024 01:33 433  
[TXT]checksrc-out.txt16-Jun-2024 01:33 3.7K 
[   ]checksrc-summary.dcf16-Jun-2024 01:33 426  
[TXT]install-out.txt16-Jun-2024 01:33 969  
[   ]install-summary.dcf16-Jun-2024 01:33 265