Index of /checkResults/devel/bioc-LATEST/DAMEfinder/raw-results/lconway

[ICO]NameLast modifiedSizeDescription

[DIR]Parent Directory  -  
[TXT]buildbin-out.txt30-Jun-2022 00:05 1.2K 
[   ]buildbin-summary.dcf30-Jun-2022 00:05 545  
[TXT]buildsrc-out.txt30-Jun-2022 00:05 890  
[   ]buildsrc-summary.dcf30-Jun-2022 00:05 435  
[TXT]checksrc-out.txt30-Jun-2022 00:05 3.3K 
[   ]checksrc-summary.dcf30-Jun-2022 00:05 454  
[TXT]install-out.txt30-Jun-2022 00:05 1.0K 
[   ]install-summary.dcf30-Jun-2022 00:05 274