Name | Last modified | Size | Description | |
---|---|---|---|---|
Parent Directory | - | |||
install-out.txt | 27-Jul-2024 00:42 | 1.0K | ||
install-summary.dcf | 27-Jul-2024 00:42 | 275 | ||
buildsrc-summary.dcf | 27-Jul-2024 00:42 | 436 | ||
buildsrc-out.txt | 27-Jul-2024 00:42 | 891 | ||
checksrc-out.txt | 27-Jul-2024 00:42 | 3.7K | ||
checksrc-summary.dcf | 27-Jul-2024 00:42 | 456 | ||
buildbin-summary.dcf | 27-Jul-2024 00:42 | 548 | ||
buildbin-out.txt | 27-Jul-2024 00:42 | 1.2K | ||