Index of /checkResults/devel/bioc-LATEST/DAMEfinder/raw-results/kjohnson3

[ICO]NameLast modifiedSizeDescription

[DIR]Parent Directory  -  
[TXT]buildbin-out.txt13-Jul-2024 01:34 1.2K 
[   ]buildbin-summary.dcf13-Jul-2024 01:34 548  
[TXT]buildsrc-out.txt13-Jul-2024 01:34 891  
[   ]buildsrc-summary.dcf13-Jul-2024 01:34 436  
[TXT]checksrc-out.txt13-Jul-2024 01:34 3.7K 
[   ]checksrc-summary.dcf13-Jul-2024 01:34 456  
[TXT]install-out.txt13-Jul-2024 01:34 1.0K 
[   ]install-summary.dcf13-Jul-2024 01:34 275