Back to Multiple platform build/check report for BioC 3.15
AB[C]DEFGHIJKLMNOPQRSTUVWXYZ

This page was generated on 2021-11-30 13:54:49 -0500 (Tue, 30 Nov 2021).

INSTALL results for CytoTree on riesling1

To the developers/maintainers of the CytoTree package:
- Please allow up to 24 hours (and sometimes 48 hours) for your latest push to git@git.bioconductor.org:packages/CytoTree.git to
reflect on this report. See How and When does the builder pull? When will my changes propagate? here for more information.
- Make sure to use the following settings in order to reproduce any error or warning you see on this page.

raw results

Package 442/2068HostnameOS / ArchINSTALLBUILDCHECKBUILD BIN
CytoTree 1.5.0  (landing page)
Yuting Dai
Snapshot Date: 2021-11-29 14:50:17 -0500 (Mon, 29 Nov 2021)
git_url: https://git.bioconductor.org/packages/CytoTree
git_branch: master
git_last_commit: 0aca0f5
git_last_commit_date: 2021-10-26 13:00:49 -0500 (Tue, 26 Oct 2021)
nebbiolo1Linux (Ubuntu 20.04.3 LTS) / x86_64  ERROR    ERROR  skipped
riesling1Windows Server 2019 Standard / x64  ERROR    ERROR  skippedskipped
merida1macOS 10.14.6 Mojave / x86_64  ERROR    ERROR  skippedskipped

Summary

Package: CytoTree
Version: 1.5.0
Command: C:\cygwin\bin\curl.exe -O http://155.52.207.165/BBS/3.15/bioc/src/contrib/CytoTree_1.5.0.tar.gz && rm -rf CytoTree.buildbin-libdir && mkdir CytoTree.buildbin-libdir && D:\biocbuild\bbs-3.15-bioc\R\bin\R.exe CMD INSTALL --merge-multiarch --build --library=CytoTree.buildbin-libdir CytoTree_1.5.0.tar.gz && D:\biocbuild\bbs-3.15-bioc\R\bin\R.exe CMD INSTALL CytoTree_1.5.0.zip && rm CytoTree_1.5.0.tar.gz CytoTree_1.5.0.zip
StartedAt: 2021-11-29 19:51:24 -0500 (Mon, 29 Nov 2021)
EndedAt: 2021-11-29 19:51:25 -0500 (Mon, 29 Nov 2021)
EllapsedTime: 1.0 seconds
RetCode: 1
Status:   ERROR  

Command output

##############################################################################
##############################################################################
###
### Running command:
###
###   C:\cygwin\bin\curl.exe -O http://155.52.207.165/BBS/3.15/bioc/src/contrib/CytoTree_1.5.0.tar.gz && rm -rf CytoTree.buildbin-libdir && mkdir CytoTree.buildbin-libdir && D:\biocbuild\bbs-3.15-bioc\R\bin\R.exe CMD INSTALL --merge-multiarch --build --library=CytoTree.buildbin-libdir CytoTree_1.5.0.tar.gz && D:\biocbuild\bbs-3.15-bioc\R\bin\R.exe CMD INSTALL CytoTree_1.5.0.zip && rm CytoTree_1.5.0.tar.gz CytoTree_1.5.0.zip
###
##############################################################################
##############################################################################


  % Total    % Received % Xferd  Average Speed   Time    Time     Time  Current
                                 Dload  Upload   Total   Spent    Left  Speed

  0     0    0     0    0     0      0      0 --:--:-- --:--:-- --:--:--     0
 10 1597k   10  168k    0     0   892k      0  0:00:01 --:--:--  0:00:01  888k
100 1597k  100 1597k    0     0  4644k      0 --:--:-- --:--:-- --:--:-- 4644k
only one architecture so ignoring '--merge-multiarch'
ERROR: dependency 'destiny' is not available for package 'CytoTree'
* removing 'D:/biocbuild/bbs-3.15-bioc/meat/CytoTree.buildbin-libdir/CytoTree'