Name | Last modified | Size | Description | |
---|---|---|---|---|
Parent Directory | - | |||
palomino8/ | 28-Jul-2024 00:39 | - | ||
palomino6/ | 17-Jul-2024 00:40 | - | ||
palomino4/ | 12-Jun-2024 04:40 | - | ||
nebbiolo2/ | 28-Jul-2024 00:38 | - | ||
merida1/ | 12-Jun-2024 04:41 | - | ||
lconway/ | 28-Jul-2024 00:40 | - | ||
kunpeng2/ | 09-Jul-2024 00:44 | - | ||
kjohnson3/ | 28-Jul-2024 00:42 | - | ||
kjohnson1/ | 12-Jun-2024 04:42 | - | ||
info.dcf | 28-Jul-2024 00:37 | 296 | ||