Name | Last modified | Size | Description | |
---|---|---|---|---|
Parent Directory | - | |||
buildbin-out.txt | 18-Feb-2024 16:28 | 19K | ||
buildbin-summary.dcf | 18-Feb-2024 16:28 | 525 | ||
buildsrc-out.txt | 05-Mar-2024 01:39 | 1.9K | ||
buildsrc-summary.dcf | 05-Mar-2024 01:39 | 342 | ||
checksrc-out.txt | 18-Feb-2024 16:28 | 13K | ||
checksrc-summary.dcf | 18-Feb-2024 16:28 | 446 | ||
install-out.txt | 05-Mar-2024 01:39 | 16K | ||
install-summary.dcf | 05-Mar-2024 01:39 | 268 | ||