Index of /checkResults/devel/bioc-LATEST/CrispRVariants/raw-results/kjohnson3
Name
Last modified
Size
Description
Parent Directory
-
buildsrc-out.txt
29-Jun-2024 00:40
1.6K
buildsrc-summary.dcf
29-Jun-2024 00:40
357
install-out.txt
29-Jun-2024 00:40
1.0K
install-summary.dcf
29-Jun-2024 00:40
283