Index of /checkResults/devel/bioc-LATEST/CopywriteR/raw-results
Name
Last modified
Size
Description
Parent Directory
-
info.dcf
21-Apr-2023 01:50
271
nebbiolo2/
21-Apr-2023 01:50
-