Name | Last modified | Size | Description | |
---|---|---|---|---|
Parent Directory | - | |||
buildsrc-out.txt | 09-Jul-2024 00:44 | 894 | ||
buildsrc-summary.dcf | 09-Jul-2024 00:44 | 325 | ||
checksrc-out.txt | 05-Jul-2024 00:44 | 3.2K | ||
checksrc-summary.dcf | 05-Jul-2024 00:44 | 415 | ||
install-out.txt | 06-Jul-2024 00:44 | 622 | ||
install-summary.dcf | 06-Jul-2024 00:44 | 254 | ||