Name | Last modified | Size | Description | |
---|---|---|---|---|
Parent Directory | - | |||
install-summary.dcf | 18-Jul-2024 00:39 | 276 | ||
install-out.txt | 18-Jul-2024 00:39 | 940 | ||
checksrc-summary.dcf | 18-Jul-2024 00:39 | 463 | ||
checksrc-out.txt | 18-Jul-2024 00:39 | 4.0K | ||
buildsrc-summary.dcf | 18-Jul-2024 00:39 | 467 | ||
buildsrc-out.txt | 18-Jul-2024 00:39 | 785 | ||
buildbin-summary.dcf | 18-Jul-2024 00:39 | 539 | ||
buildbin-out.txt | 18-Jul-2024 00:39 | 1.1K | ||