Name | Last modified | Size | Description | |
---|---|---|---|---|
Parent Directory | - | |||
buildbin-out.txt | 17-Jul-2024 00:40 | 1.1K | ||
buildbin-summary.dcf | 17-Jul-2024 00:40 | 545 | ||
buildsrc-out.txt | 17-Jul-2024 00:40 | 791 | ||
buildsrc-summary.dcf | 17-Jul-2024 00:40 | 473 | ||
checksrc-out.txt | 17-Jul-2024 00:40 | 4.0K | ||
checksrc-summary.dcf | 17-Jul-2024 00:40 | 475 | ||
install-out.txt | 17-Jul-2024 00:40 | 952 | ||
install-summary.dcf | 17-Jul-2024 00:40 | 282 | ||