Index of /checkResults/devel/bioc-LATEST/CluMSID/raw-results/merida1
Name
Last modified
Size
Description
Parent Directory
-
buildsrc-out.txt
02-May-2024 00:39
2.8K
buildsrc-summary.dcf
02-May-2024 00:39
344
install-out.txt
02-May-2024 00:39
1.3K
install-summary.dcf
02-May-2024 00:39
269